BEGIN:VCALENDAR
VERSION:2.0
PRODID:-//ogden4arts.org//NONSGML kigkonsult.se iCalcreator 2.30.10//
CALSCALE:GREGORIAN
METHOD:PUBLISH
UID:a8ac2d1a-6a1f-4ae6-ab8d-322636f6803c
X-WR-CALDESC:Watercolor Artist\, Kristi Grussendorf will teach as a guest i
 nstructor at the Eccles Art Center\, 2580 Jefferson Avenue\, Ogden on Satu
 rday\, February 17\, 2024 from 10 a.m. to 3 p.m.  Registering students sho
 uld bring their watercolor supplies\, snacks and a sack lunch.  This will 
 be an informative workshop.  Space is limited.  Tuition: $80.  Register on
 line at www.ogden4arts.org or by calling a member of the art center’s staf
 f at 801-392-6935.
X-WR-RELCALID:77e119d1d9f774ee2c16a1fd5ed6f1c7
X-WR-TIMEZONE:America/Denver
BEGIN:VTIMEZONE
TZID:America/Denver
BEGIN:STANDARD
TZNAME:MST
DTSTART:20231105T020000
TZOFFSETFROM:-0600
TZOFFSETTO:-0700
RDATE:20241103T020000
END:STANDARD
BEGIN:DAYLIGHT
TZNAME:MDT
DTSTART:20230312T020000
TZOFFSETFROM:-0700
TZOFFSETTO:-0600
RDATE:20240310T020000
RDATE:20250309T020000
END:DAYLIGHT
END:VTIMEZONE
BEGIN:VEVENT
UID:d4abbc1e-c7ad-4211-94b1-078d56d42227
DTSTAMP:20260420T235730Z
DESCRIPTION:Watercolor Artist\, Kristi Grussendorf will teach as a guest in
 structor at the Eccles Art Center\, 2580 Jefferson Avenue\, Ogden on Satur
 day\, February 17\, 2024 from 10 a.m. to 3 p.m.  Registering students shou
 ld bring their watercolor supplies\, snacks and a sack lunch.  This will b
 e an informative workshop.  Space is limited.  Tuition: $80.  Register onl
 ine at www.ogden4arts.org or by calling a member of the art center’s staff
  at 801-392-6935.
DTSTART;TZID=America/Denver:20240217T100000
DTEND;TZID=America/Denver:20240217T150000
LOCATION:2580 Jefferson Ave\, Ogden\, UT 84401 US
SUMMARY:Watercolor with Guest Artist Kristi Grussendorf
END:VEVENT
END:VCALENDAR
