BEGIN:VCALENDAR
VERSION:2.0
PRODID:-//ogden4arts.org//NONSGML kigkonsult.se iCalcreator 2.30.10//
CALSCALE:GREGORIAN
METHOD:PUBLISH
UID:be4b5ae6-08ed-4188-84a8-fc2405b4cd81
X-WR-CALDESC:Dive into watercolor washes with artist\, Joanne Hall at the E
 ccles Art Center 2580 Jefferson Avenue\, Ogden on Tuesdays\, January 9 thr
 ough February 13\, 2024 from 1:30 to 3:00 p.m. Each week create a small pr
 actice painting. Tuition: $120.  Register online at www.ogden4arts.org or 
 by calling a member of the art center staff at 801-392-6935.
X-WR-RELCALID:4efd37cd0f4af6c409c0cd3dc103a5c0
X-WR-TIMEZONE:America/Denver
BEGIN:VTIMEZONE
TZID:America/Denver
BEGIN:STANDARD
TZNAME:MST
DTSTART:20231105T020000
TZOFFSETFROM:-0600
TZOFFSETTO:-0700
RDATE:20241103T020000
END:STANDARD
BEGIN:DAYLIGHT
TZNAME:MDT
DTSTART:20230312T020000
TZOFFSETFROM:-0700
TZOFFSETTO:-0600
RDATE:20240310T020000
RDATE:20250309T020000
END:DAYLIGHT
END:VTIMEZONE
BEGIN:VEVENT
UID:87573e0a-6ffc-49b1-ad1e-b419de60a950
DTSTAMP:20260420T224127Z
DESCRIPTION:Dive into watercolor washes with artist\, Joanne Hall at the Ec
 cles Art Center 2580 Jefferson Avenue\, Ogden on Tuesdays\, January 9 thro
 ugh February 13\, 2024 from 1:30 to 3:00 p.m. Each week create a small pra
 ctice painting. Tuition: $120.  Register online at www.ogden4arts.org or b
 y calling a member of the art center staff at 801-392-6935.
DTSTART;TZID=America/Denver:20240206T133000
DTEND;TZID=America/Denver:20240206T150000
LOCATION:2580 Jefferson Ave\, Ogden\, UT 84401 US
SUMMARY:Dive into Watercolor Washes
END:VEVENT
END:VCALENDAR
