BEGIN:VCALENDAR
VERSION:2.0
PRODID:-//ogden4arts.org//NONSGML kigkonsult.se iCalcreator 2.30.10//
CALSCALE:GREGORIAN
METHOD:PUBLISH
UID:580675d6-114f-40df-9704-aca19bf74e0e
X-WR-CALDESC:Dive into watercolor washes with artist\, Joanne Hall at the E
 ccles Art Center 2580 Jefferson Avenue\, Ogden on Tuesdays\, January 9 thr
 ough February 13\, 2024 from 1:30 to 3:00 p.m. Each week create a small pr
 actice painting. Tuition: $120.  Register online at www.ogden4arts.org or 
 by calling a member of the art center staff at 801-392-6935.
X-WR-RELCALID:0ddb10625fbbc765a2a867497069e1f1
X-WR-TIMEZONE:America/Denver
BEGIN:VTIMEZONE
TZID:America/Denver
BEGIN:STANDARD
TZNAME:MST
DTSTART:20231105T020000
TZOFFSETFROM:-0600
TZOFFSETTO:-0700
RDATE:20241103T020000
END:STANDARD
BEGIN:DAYLIGHT
TZNAME:MDT
DTSTART:20230312T020000
TZOFFSETFROM:-0700
TZOFFSETTO:-0600
RDATE:20240310T020000
RDATE:20250309T020000
END:DAYLIGHT
END:VTIMEZONE
BEGIN:VEVENT
UID:f0dd99b4-4405-49f3-95dd-2da0acbb47f5
DTSTAMP:20260420T235135Z
DESCRIPTION:Dive into watercolor washes with artist\, Joanne Hall at the Ec
 cles Art Center 2580 Jefferson Avenue\, Ogden on Tuesdays\, January 9 thro
 ugh February 13\, 2024 from 1:30 to 3:00 p.m. Each week create a small pra
 ctice painting. Tuition: $120.  Register online at www.ogden4arts.org or b
 y calling a member of the art center staff at 801-392-6935.
DTSTART;TZID=America/Denver:20240123T133000
DTEND;TZID=America/Denver:20240123T150000
LOCATION:2580 Jefferson Ave\, Ogden\, UT 84401 US
SUMMARY:Dive into Watercolor Washes
END:VEVENT
END:VCALENDAR
