BEGIN:VCALENDAR
VERSION:2.0
PRODID:-//ogden4arts.org//NONSGML kigkonsult.se iCalcreator 2.30.10//
CALSCALE:GREGORIAN
METHOD:PUBLISH
UID:147910c8-1b79-4c83-8451-84f42bb7251e
X-WR-CALDESC:Utah artist\, Ian Ramsay will be a guest watercolor instructor
  at a Saturday workshop offered at the Eccles Art Center\, 2580 Jefferson 
 Avenue\, Ogden from 9:30 a.m. to 4:30 p.m. A drawing of the watercolor pro
 ject will be provided to registering students.  It is recommended that stu
 dents bring a shack lunch along with their watercolor painting supplies.  
 Space is limited to 10 students.  Tuition: $80.  Register online at www.og
 den4arts.org or by calling a member of the art center’s staff at 801-392-6
 935.
X-WR-RELCALID:788524765cd68219a2fb28a57ca63b4d
X-WR-TIMEZONE:America/Denver
BEGIN:VTIMEZONE
TZID:America/Denver
BEGIN:STANDARD
TZNAME:MST
DTSTART:20231105T020000
TZOFFSETFROM:-0600
TZOFFSETTO:-0700
RDATE:20241103T020000
END:STANDARD
BEGIN:DAYLIGHT
TZNAME:MDT
DTSTART:20230312T020000
TZOFFSETFROM:-0700
TZOFFSETTO:-0600
RDATE:20240310T020000
RDATE:20250309T020000
END:DAYLIGHT
END:VTIMEZONE
BEGIN:VEVENT
UID:86f80052-0caa-4075-84df-cad85ebbc377
DTSTAMP:20260420T235546Z
DESCRIPTION:Utah artist\, Ian Ramsay will be a guest watercolor instructor 
 at a Saturday workshop offered at the Eccles Art Center\, 2580 Jefferson A
 venue\, Ogden from 9:30 a.m. to 4:30 p.m. A drawing of the watercolor proj
 ect will be provided to registering students.  It is recommended that stud
 ents bring a shack lunch along with their watercolor painting supplies.  S
 pace is limited to 10 students.  Tuition: $80.  Register online at www.ogd
 en4arts.org or by calling a member of the art center’s staff at 801-392-69
 35.
DTSTART;TZID=America/Denver:20240120T093000
DTEND;TZID=America/Denver:20240120T163000
LOCATION:2580 Jefferson Ave\, Ogden\, UT 84401 US
SUMMARY:Watercolor with Guest Artist Ian Ramsay
END:VEVENT
END:VCALENDAR
