BEGIN:VCALENDAR
VERSION:2.0
PRODID:-//ogden4arts.org//NONSGML kigkonsult.se iCalcreator 2.30.10//
CALSCALE:GREGORIAN
METHOD:PUBLISH
UID:eac0f722-54f0-4c4a-ac3e-feda68dea3a4
X-WR-CALDESC:Join photographer Bruce Frandsen for Photo Fun: Learn how to u
 se that new Camera at the Eccles Art Center\, 2580 Jefferson Avenue\, Ogde
 n on Tuesday\, January 9\, 2024 from 6:30 to 8:30 p.m. Tuition: $25. Pleas
 e pre-register online at www.ogden4arts.org or by calling a member of the 
 center’s staff at 801-392-6935.
X-WR-RELCALID:6f42b2775fa6c7401864b676eb55a64c
X-WR-TIMEZONE:America/Denver
BEGIN:VTIMEZONE
TZID:America/Denver
BEGIN:STANDARD
TZNAME:MST
DTSTART:20231105T020000
TZOFFSETFROM:-0600
TZOFFSETTO:-0700
RDATE:20241103T020000
END:STANDARD
BEGIN:DAYLIGHT
TZNAME:MDT
DTSTART:20230312T020000
TZOFFSETFROM:-0700
TZOFFSETTO:-0600
RDATE:20240310T020000
RDATE:20250309T020000
END:DAYLIGHT
END:VTIMEZONE
BEGIN:VEVENT
UID:070d6ce9-5146-45ed-98dc-59eebcd95615
DTSTAMP:20260420T235117Z
DESCRIPTION:Join photographer Bruce Frandsen for Photo Fun: Learn how to us
 e that new Camera at the Eccles Art Center\, 2580 Jefferson Avenue\, Ogden
  on Tuesday\, January 9\, 2024 from 6:30 to 8:30 p.m. Tuition: $25. Please
  pre-register online at www.ogden4arts.org or by calling a member of the c
 enter’s staff at 801-392-6935.
DTSTART;TZID=America/Denver:20240109T183000
DTEND;TZID=America/Denver:20240109T203000
LOCATION:2580 Jefferson Ave\, Ogden\, UT 84401 US
SUMMARY:Photo Fun with Bruce Frandsen
END:VEVENT
END:VCALENDAR
