BEGIN:VCALENDAR
VERSION:2.0
PRODID:-//ogden4arts.org//NONSGML kigkonsult.se iCalcreator 2.30.10//
CALSCALE:GREGORIAN
METHOD:PUBLISH
UID:9d97dd2b-b6da-42ce-b910-9d1e71efdc79
X-WR-CALDESC:Explore Watercolor Studio with artist\, Joanne Hall at the Ecc
 les Art Center\, 2580 Jefferson Avenue\, Ogden on Tuesdays January 9 throu
 gh February 13\, 2024 from 11:30 to 1:00 p.m.  Tuition: Six weeks: $120.  
 Drop-in $20.  Register on-line at www.ogden4arts.org or by calling a membe
 r of the art center staff at 801-392-6935.
X-WR-RELCALID:ee65695360f751182612f5e8c88ae1af
X-WR-TIMEZONE:America/Denver
BEGIN:VTIMEZONE
TZID:America/Denver
BEGIN:STANDARD
TZNAME:MST
DTSTART:20231105T020000
TZOFFSETFROM:-0600
TZOFFSETTO:-0700
RDATE:20241103T020000
END:STANDARD
BEGIN:DAYLIGHT
TZNAME:MDT
DTSTART:20230312T020000
TZOFFSETFROM:-0700
TZOFFSETTO:-0600
RDATE:20240310T020000
RDATE:20250309T020000
END:DAYLIGHT
END:VTIMEZONE
BEGIN:VEVENT
UID:fd3c4b65-7fcf-4d9f-80e9-0832aee21ffb
DTSTAMP:20260420T235419Z
DESCRIPTION:Explore Watercolor Studio with artist\, Joanne Hall at the Eccl
 es Art Center\, 2580 Jefferson Avenue\, Ogden on Tuesdays January 9 throug
 h February 13\, 2024 from 11:30 to 1:00 p.m.  Tuition: Six weeks: $120.  D
 rop-in $20.  Register on-line at www.ogden4arts.org or by calling a member
  of the art center staff at 801-392-6935.
DTSTART;TZID=America/Denver:20240109T113000
DTEND;TZID=America/Denver:20240109T130000
LOCATION:2580 Jefferson Ave\, Ogden\, UT 84401 US
SUMMARY:Watercolor Studio with Joanne Hall
END:VEVENT
END:VCALENDAR
