BEGIN:VCALENDAR
VERSION:2.0
PRODID:-//ogden4arts.org//NONSGML kigkonsult.se iCalcreator 2.30.10//
CALSCALE:GREGORIAN
METHOD:PUBLISH
UID:3ecae952-1b3e-4991-98d7-39eb1d10defc
X-WR-CALDESC:Artist/Naturalist Susan Snyder will present a STEAM punks Wint
 er Art Camp for children ages 7 to 12 years old at the Eccles Art Center\,
  2580 Jefferson Avenue\, Ogden from 9:30 to noon on December 26\, 27\, & 2
 8\, 2023. Space is limited.  Supplies provided.  Tuition: $75.  Please pre
 -register your child by December 20\, 2023.  Registration available at www
 .ogden4arts.org or by calling a member of the art center staff at 801-392-
 6935.
X-WR-RELCALID:58cb794ecacd65d580ed6e7b83ec22e6
X-WR-TIMEZONE:America/Denver
BEGIN:VTIMEZONE
TZID:America/Denver
BEGIN:STANDARD
TZNAME:MST
DTSTART:20231105T020000
TZOFFSETFROM:-0600
TZOFFSETTO:-0700
RDATE:20241103T020000
END:STANDARD
BEGIN:DAYLIGHT
TZNAME:MDT
DTSTART:20230312T020000
TZOFFSETFROM:-0700
TZOFFSETTO:-0600
RDATE:20240310T020000
RDATE:20250309T020000
END:DAYLIGHT
END:VTIMEZONE
BEGIN:VEVENT
UID:5ad222cc-7e18-443a-a989-704559e3eef1
DTSTAMP:20260421T012244Z
DESCRIPTION:Artist/Naturalist Susan Snyder will present a STEAM punks Winte
 r Art Camp for children ages 7 to 12 years old at the Eccles Art Center\, 
 2580 Jefferson Avenue\, Ogden from 9:30 to noon on December 26\, 27\, & 28
 \, 2023. Space is limited.  Supplies provided.  Tuition: $75.  Please pre-
 register your child by December 20\, 2023.  Registration available at www.
 ogden4arts.org or by calling a member of the art center staff at 801-392-6
 935.
DTSTART;TZID=America/Denver:20231226T093000
DTEND;TZID=America/Denver:20231226T120000
LOCATION:2580 Jefferson Ave\, Ogden\, UT 84401 US
SUMMARY:Winter STEAM Punk Art Camp
END:VEVENT
END:VCALENDAR
