BEGIN:VCALENDAR
VERSION:2.0
PRODID:-//ogden4arts.org//NONSGML kigkonsult.se iCalcreator 2.30.10//
CALSCALE:GREGORIAN
METHOD:PUBLISH
UID:0539b253-1352-416b-a03e-3bae2ecdec77
X-WR-CALDESC:A daytime Seniors Create! class for those 55 + will be offered
  at the Eccles Art Center\, 2580 Jefferson Avenue\, Ogden on Friday\, Dece
 mber15\, 2023 from 11 to noon.  Students will invite the sun in while crea
 ting a Chilhuly inspired sun catcher or ornament.  Tuition: $10.  Pre-regi
 stration is requested and may be done on-line at www.ogden4arts.org or by 
 calling the art center staff at 801-392-6935.
X-WR-RELCALID:8a3a9a3c71517d291e76cd469a9d18bd
X-WR-TIMEZONE:America/Denver
BEGIN:VTIMEZONE
TZID:America/Denver
BEGIN:STANDARD
TZNAME:MST
DTSTART:20231105T020000
TZOFFSETFROM:-0600
TZOFFSETTO:-0700
RDATE:20241103T020000
END:STANDARD
BEGIN:DAYLIGHT
TZNAME:MDT
DTSTART:20230312T020000
TZOFFSETFROM:-0700
TZOFFSETTO:-0600
RDATE:20240310T020000
RDATE:20250309T020000
END:DAYLIGHT
END:VTIMEZONE
BEGIN:VEVENT
UID:a9579a9e-222a-48e6-8228-b13bfe30c8f7
DTSTAMP:20260421T012132Z
DESCRIPTION:A daytime Seniors Create! class for those 55 + will be offered 
 at the Eccles Art Center\, 2580 Jefferson Avenue\, Ogden on Friday\, Decem
 ber15\, 2023 from 11 to noon.  Students will invite the sun in while creat
 ing a Chilhuly inspired sun catcher or ornament.  Tuition: $10.  Pre-regis
 tration is requested and may be done on-line at www.ogden4arts.org or by c
 alling the art center staff at 801-392-6935.
DTSTART;TZID=America/Denver:20231215T110000
DTEND;TZID=America/Denver:20231215T120000
LOCATION:2580 Jefferson Ave\, Ogden\, UT 84401 US
SUMMARY:Senior Create: Chulhuly Inspire Sun Catchers
END:VEVENT
END:VCALENDAR
