BEGIN:VCALENDAR
VERSION:2.0
PRODID:-//ogden4arts.org//NONSGML kigkonsult.se iCalcreator 2.30.10//
CALSCALE:GREGORIAN
METHOD:PUBLISH
UID:8ef721f8-2012-4092-b851-c42142808219
X-WR-CALDESC:A daytime Seniors Create! class for those 55 + will be offered
  at the Eccles Art Center\, 2580 Jefferson Avenue\, Ogden on Friday\, Dece
 mber 8\, 2023 from 11 to noon.  Students will paint a mini watercolor of a
  holiday gnome and tree.  Tuition: $10.  Pre-registration is requested and
  may be done on-line at www.ogden4arts.org or by calling the art center st
 aff at 801-392-6935.\n\n
X-WR-RELCALID:55e68e826f04e789b72cc2147f97538c
X-WR-TIMEZONE:America/Denver
BEGIN:VTIMEZONE
TZID:America/Denver
BEGIN:STANDARD
TZNAME:MST
DTSTART:20231105T020000
TZOFFSETFROM:-0600
TZOFFSETTO:-0700
RDATE:20241103T020000
END:STANDARD
BEGIN:DAYLIGHT
TZNAME:MDT
DTSTART:20230312T020000
TZOFFSETFROM:-0700
TZOFFSETTO:-0600
RDATE:20240310T020000
RDATE:20250309T020000
END:DAYLIGHT
END:VTIMEZONE
BEGIN:VEVENT
UID:93e1aaf9-6f20-41de-862e-dd984982d8cc
DTSTAMP:20260421T012117Z
DESCRIPTION:A daytime Seniors Create! class for those 55 + will be offered 
 at the Eccles Art Center\, 2580 Jefferson Avenue\, Ogden on Friday\, Decem
 ber 8\, 2023 from 11 to noon.  Students will paint a mini watercolor of a 
 holiday gnome and tree.  Tuition: $10.  Pre-registration is requested and 
 may be done on-line at www.ogden4arts.org or by calling the art center sta
 ff at 801-392-6935.\n\n
DTSTART;TZID=America/Denver:20231208T110000
DTEND;TZID=America/Denver:20231208T120000
LOCATION:2580 Jefferson Ave\, Ogden\, UT 84401 US
SUMMARY:Seniors Create: Gnome & Tree Watercolor
END:VEVENT
END:VCALENDAR
