BEGIN:VCALENDAR
VERSION:2.0
PRODID:-//ogden4arts.org//NONSGML kigkonsult.se iCalcreator 2.30.10//
CALSCALE:GREGORIAN
METHOD:PUBLISH
UID:5683c33e-ff77-4e02-9579-460517813a75
X-WR-CALDESC:Certified instructor\, Deborah Barnes-Allen will present Chair
  Yoga for Happy Joints and Healthy Brain at the Eccles Art Center\, 2580 J
 efferson Avenue\, Ogden on Thursday from 11 a.m. to noon November 2 throug
 h December 21\, 2023 (class will not be held on November 23).  Drop-in $14
 . Tuition: $96.  Register at www.ogden4arts.ord/class-schedule/ or by call
 ing a member of the art center staff at 801-392-6935.
X-WR-RELCALID:e65131110a085b0860da48d484dc51de
X-WR-TIMEZONE:America/Denver
BEGIN:VTIMEZONE
TZID:America/Denver
BEGIN:STANDARD
TZNAME:MST
DTSTART:20231105T020000
TZOFFSETFROM:-0600
TZOFFSETTO:-0700
RDATE:20241103T020000
END:STANDARD
BEGIN:DAYLIGHT
TZNAME:MDT
DTSTART:20230312T020000
TZOFFSETFROM:-0700
TZOFFSETTO:-0600
RDATE:20240310T020000
RDATE:20250309T020000
END:DAYLIGHT
END:VTIMEZONE
BEGIN:VEVENT
UID:99e90722-60c8-4620-88e2-ea1604267c41
DTSTAMP:20260421T030319Z
DESCRIPTION:Certified instructor\, Deborah Barnes-Allen will present Chair 
 Yoga for Happy Joints and Healthy Brain at the Eccles Art Center\, 2580 Je
 fferson Avenue\, Ogden on Thursday from 11 a.m. to noon November 2 through
  December 21\, 2023 (class will not be held on November 23).  Drop-in $14.
  Tuition: $96.  Register at www.ogden4arts.ord/class-schedule/ or by calli
 ng a member of the art center staff at 801-392-6935.
DTSTART;TZID=America/Denver:20231130T113000
DTEND;TZID=America/Denver:20231130T123000
LOCATION:2580 Jefferson Ave\, Ogden\, UT 84401 US
SUMMARY:Chair Yoga for Healthy Brain & Vibrant Wellbeing
END:VEVENT
END:VCALENDAR
