BEGIN:VCALENDAR
VERSION:2.0
PRODID:-//ogden4arts.org//NONSGML kigkonsult.se iCalcreator 2.30.10//
CALSCALE:GREGORIAN
METHOD:PUBLISH
UID:006ed875-5eab-4bc1-9c5c-952e8a1a1492
X-WR-CALDESC:A daytime Seniors Create! class for those 55 + will be offered
  at the Eccles Art Center\, 2580 Jefferson Avenue\, Ogden on Friday\, Nove
 mber 10\, 2023 from 11 to noon.  Students weave a small coin/change bag.  
 Tuition: $10.  Pre-registration is requested and may be done on-line at ww
 w.ogden4arts.org or by calling the art center staff at 801-392-6935.
X-WR-RELCALID:b4834195c9b9e7882d021f7afde0091c
X-WR-TIMEZONE:America/Denver
BEGIN:VTIMEZONE
TZID:America/Denver
BEGIN:STANDARD
TZNAME:MST
DTSTART:20231105T020000
TZOFFSETFROM:-0600
TZOFFSETTO:-0700
RDATE:20241103T020000
END:STANDARD
BEGIN:DAYLIGHT
TZNAME:MDT
DTSTART:20230312T020000
TZOFFSETFROM:-0700
TZOFFSETTO:-0600
RDATE:20240310T020000
RDATE:20250309T020000
END:DAYLIGHT
END:VTIMEZONE
BEGIN:VEVENT
UID:fe5763de-3085-453d-a9b8-9d0af209a0a0
DTSTAMP:20260421T025740Z
DESCRIPTION:A daytime Seniors Create! class for those 55 + will be offered 
 at the Eccles Art Center\, 2580 Jefferson Avenue\, Ogden on Friday\, Novem
 ber 10\, 2023 from 11 to noon.  Students weave a small coin/change bag.  T
 uition: $10.  Pre-registration is requested and may be done on-line at www
 .ogden4arts.org or by calling the art center staff at 801-392-6935.
DTSTART;TZID=America/Denver:20231110T110000
DTEND;TZID=America/Denver:20231110T120000
LOCATION:2580 Jefferson Ave\, Ogden\, UT 84401 US
SUMMARY:Seniors Create: Coin Bag
END:VEVENT
END:VCALENDAR
