BEGIN:VCALENDAR
VERSION:2.0
PRODID:-//ogden4arts.org//NONSGML kigkonsult.se iCalcreator 2.30.10//
CALSCALE:GREGORIAN
METHOD:PUBLISH
UID:0aa9ccd5-b209-4d65-9e70-673a28701e4f
X-WR-CALDESC:Certified instructor\, Deborah Barnes-Allen will present Chair
  Yoga for Happy Joints and Healthy Brain at the Eccles Art Center\, 2580 J
 efferson Avenue\, Ogden on Thursday from 11 a.m. to noon November 2 throug
 h December 21\, 2023 (class will not be held on November 23).  Drop-in $14
 . Tuition: $96.  Register at www.ogden4arts.ord/class-schedule/ or by call
 ing a member of the art center staff at 801-392-6935.
X-WR-RELCALID:87e0bbe487cee68c80b064cfb3307d3f
X-WR-TIMEZONE:America/Denver
BEGIN:VTIMEZONE
TZID:America/Denver
BEGIN:STANDARD
TZNAME:MST
DTSTART:20231105T020000
TZOFFSETFROM:-0600
TZOFFSETTO:-0700
RDATE:20241103T020000
END:STANDARD
BEGIN:DAYLIGHT
TZNAME:MDT
DTSTART:20230312T020000
TZOFFSETFROM:-0700
TZOFFSETTO:-0600
RDATE:20240310T020000
RDATE:20250309T020000
END:DAYLIGHT
END:VTIMEZONE
BEGIN:VEVENT
UID:65c96f9b-5a66-471a-acfc-b7b5c024b363
DTSTAMP:20260421T030157Z
DESCRIPTION:Certified instructor\, Deborah Barnes-Allen will present Chair 
 Yoga for Happy Joints and Healthy Brain at the Eccles Art Center\, 2580 Je
 fferson Avenue\, Ogden on Thursday from 11 a.m. to noon November 2 through
  December 21\, 2023 (class will not be held on November 23).  Drop-in $14.
  Tuition: $96.  Register at www.ogden4arts.ord/class-schedule/ or by calli
 ng a member of the art center staff at 801-392-6935.
DTSTART;TZID=America/Denver:20231109T113000
DTEND;TZID=America/Denver:20231109T123000
LOCATION:2580 Jefferson Ave\, Ogden\, UT 84401 US
SUMMARY:Chair Yoga for Healthy Brain & Vibrant Wellbeing
END:VEVENT
END:VCALENDAR
