BEGIN:VCALENDAR
VERSION:2.0
PRODID:-//ogden4arts.org//NONSGML kigkonsult.se iCalcreator 2.30.10//
CALSCALE:GREGORIAN
METHOD:PUBLISH
UID:3fd74e25-5705-4329-8b45-3bdf308b85d8
X-WR-CALDESC:Candace Baker will offer Fat Chance Belly Dance®	levels 1& 2 on
  Tuesdays November 7 through December 12\, 2023 at 6:30 with Levels 2 & 3 
 offered at 5:30 (must have permission of teacher to be in higher level) at
  the Eccles Art Center\, 2580 Jefferson Avenue\, Ogden. Tuition/dance: $50
 .
X-WR-RELCALID:267fee1f84635f4609518ad8e856133d
X-WR-TIMEZONE:America/Denver
BEGIN:VTIMEZONE
TZID:America/Denver
BEGIN:STANDARD
TZNAME:MST
DTSTART:20231105T020000
TZOFFSETFROM:-0600
TZOFFSETTO:-0700
RDATE:20241103T020000
END:STANDARD
BEGIN:DAYLIGHT
TZNAME:MDT
DTSTART:20230312T020000
TZOFFSETFROM:-0700
TZOFFSETTO:-0600
RDATE:20240310T020000
RDATE:20250309T020000
END:DAYLIGHT
END:VTIMEZONE
BEGIN:VEVENT
UID:6414cab9-7506-4dbe-9d49-57e83a6e5a49
DTSTAMP:20260421T025739Z
DESCRIPTION:Candace Baker will offer Fat Chance Belly Dance®	levels 1& 2 on 
 Tuesdays November 7 through December 12\, 2023 at 6:30 with Levels 2 & 3 o
 ffered at 5:30 (must have permission of teacher to be in higher level) at 
 the Eccles Art Center\, 2580 Jefferson Avenue\, Ogden. Tuition/dance: $50.
DTSTART;TZID=America/Denver:20231107T183000
DTEND;TZID=America/Denver:20231107T193000
LOCATION:2580 Jefferson Ave\, Ogden\, UT 84401 US
SUMMARY:Fat Chance Belly Dance 1/2
END:VEVENT
END:VCALENDAR
