BEGIN:VCALENDAR
VERSION:2.0
PRODID:-//ogden4arts.org//NONSGML kigkonsult.se iCalcreator 2.30.10//
CALSCALE:GREGORIAN
METHOD:PUBLISH
UID:5cf8037a-faab-4667-bee8-e4fe17d27a19
X-WR-CALDESC:Certified instructor\, Deborah Barnes-Allen at the Eccles Art 
 Center\, 2580 Jefferson Avenue\, Ogden will present Build a strong Immune 
 System with the Practice of Mindful Movement and the self-care of Jin Shin
  Jyutsu on Wednesdays from 11 to noon November 1 through December 6\, 2023
 .  This is a 6-week course.  Drop-in are not allowed. The tuition: $132 in
 cludes a mini healing booklet. Please register online at https://ogden4art
 s.org/class-schedule/ or by calling a member of the art center staff at 80
 1-392-6935.
X-WR-RELCALID:a2d6064f2643091af4385cd01ea4d75c
X-WR-TIMEZONE:America/Denver
BEGIN:VTIMEZONE
TZID:America/Denver
BEGIN:STANDARD
TZNAME:MST
DTSTART:20221106T020000
TZOFFSETFROM:-0600
TZOFFSETTO:-0700
RDATE:20231105T020000
RDATE:20241103T020000
END:STANDARD
BEGIN:DAYLIGHT
TZNAME:MDT
DTSTART:20230312T020000
TZOFFSETFROM:-0700
TZOFFSETTO:-0600
RDATE:20240310T020000
RDATE:20250309T020000
END:DAYLIGHT
END:VTIMEZONE
BEGIN:VEVENT
UID:5b7137af-9dbb-4a3b-9dfd-ac0227366c7a
DTSTAMP:20260421T030034Z
DESCRIPTION:Certified instructor\, Deborah Barnes-Allen at the Eccles Art C
 enter\, 2580 Jefferson Avenue\, Ogden will present Build a strong Immune S
 ystem with the Practice of Mindful Movement and the self-care of Jin Shin 
 Jyutsu on Wednesdays from 11 to noon November 1 through December 6\, 2023.
   This is a 6-week course.  Drop-in are not allowed. The tuition: $132 inc
 ludes a mini healing booklet. Please register online at https://ogden4arts
 .org/class-schedule/ or by calling a member of the art center staff at 801
 -392-6935.
DTSTART;TZID=America/Denver:20231101T110000
DTEND;TZID=America/Denver:20231101T120000
LOCATION:2580 Jefferson Ave\, Ogden\, UT 84401 US
SUMMARY:Jin Shin Jyutsu
END:VEVENT
END:VCALENDAR
