BEGIN:VCALENDAR
VERSION:2.0
PRODID:-//ogden4arts.org//NONSGML kigkonsult.se iCalcreator 2.30.10//
CALSCALE:GREGORIAN
METHOD:PUBLISH
UID:fc2a080f-0826-4412-8929-328360a9af3d
X-WR-CALDESC:Join us at the Eccles Art Center\, 2580 Jefferson Avenue\, Ogd
 en for “From Plant to Paper: Beginning Botany and Botanical Illustration” 
 with artist\, Rose Torres and Professor\, Jim Cohen on Saturday\, October 
 21\, 2023 from 2 to 5 p.m.  Tuition: $10. Space is limited\, please pre-re
 gister online at www.ogden4arts.org or by calling a member of the art cent
 er staff at 801-392-6935.
X-WR-RELCALID:0a35ec0897553780a03026cb9eef53cf
X-WR-TIMEZONE:America/Denver
BEGIN:VTIMEZONE
TZID:America/Denver
BEGIN:STANDARD
TZNAME:MST
DTSTART:20221106T020000
TZOFFSETFROM:-0600
TZOFFSETTO:-0700
RDATE:20231105T020000
RDATE:20241103T020000
END:STANDARD
BEGIN:DAYLIGHT
TZNAME:MDT
DTSTART:20230312T020000
TZOFFSETFROM:-0700
TZOFFSETTO:-0600
RDATE:20240310T020000
RDATE:20250309T020000
END:DAYLIGHT
END:VTIMEZONE
BEGIN:VEVENT
UID:50c72b88-cddd-4d94-996e-abc516cee9a8
DTSTAMP:20260421T043355Z
DESCRIPTION:Join us at the Eccles Art Center\, 2580 Jefferson Avenue\, Ogde
 n for “From Plant to Paper: Beginning Botany and Botanical Illustration” w
 ith artist\, Rose Torres and Professor\, Jim Cohen on Saturday\, October 2
 1\, 2023 from 2 to 5 p.m.  Tuition: $10. Space is limited\, please pre-reg
 ister online at www.ogden4arts.org or by calling a member of the art cente
 r staff at 801-392-6935.
DTSTART;TZID=America/Denver:20231021T140000
DTEND;TZID=America/Denver:20231021T170000
LOCATION:2580 Jefferson Ave\, Ogden\, UT 84401 US
SUMMARY:From Plant to Paper: Beginning Botany and Botanical Illustration
END:VEVENT
END:VCALENDAR
