BEGIN:VCALENDAR
VERSION:2.0
PRODID:-//ogden4arts.org//NONSGML kigkonsult.se iCalcreator 2.30.10//
CALSCALE:GREGORIAN
METHOD:PUBLISH
UID:8f4966a9-8968-4084-9130-ec8b660416da
X-WR-CALDESC:A daytime Seniors Create! class for those 55 + will be offered
  at the Eccles Art Center\, 2580 Jefferson Avenue\, Ogden on Friday\, Octo
 ber 20\, 2023 from 11 to noon.  Students design with acrylic paints a pump
 kin or Jack O’ lantern on a small canvas.  Tuition: $10.  Pre-registration
  is requested and may be done on-line at www.ogden4arts.org or by calling 
 the art center staff at 801-392-6935.
X-WR-RELCALID:1995f399f55e439284cf75c250003f1a
X-WR-TIMEZONE:America/Denver
BEGIN:VTIMEZONE
TZID:America/Denver
BEGIN:STANDARD
TZNAME:MST
DTSTART:20221106T020000
TZOFFSETFROM:-0600
TZOFFSETTO:-0700
RDATE:20231105T020000
RDATE:20241103T020000
END:STANDARD
BEGIN:DAYLIGHT
TZNAME:MDT
DTSTART:20230312T020000
TZOFFSETFROM:-0700
TZOFFSETTO:-0600
RDATE:20240310T020000
RDATE:20250309T020000
END:DAYLIGHT
END:VTIMEZONE
BEGIN:VEVENT
UID:ec8a70bf-5513-4cb3-bd16-81b9c9d530b0
DTSTAMP:20260421T043233Z
DESCRIPTION:A daytime Seniors Create! class for those 55 + will be offered 
 at the Eccles Art Center\, 2580 Jefferson Avenue\, Ogden on Friday\, Octob
 er 20\, 2023 from 11 to noon.  Students design with acrylic paints a pumpk
 in or Jack O’ lantern on a small canvas.  Tuition: $10.  Pre-registration 
 is requested and may be done on-line at www.ogden4arts.org or by calling t
 he art center staff at 801-392-6935.
DTSTART;TZID=America/Denver:20231020T110000
DTEND;TZID=America/Denver:20231020T120000
LOCATION:2580 Jefferson Ave\, Ogden\, UT 84401 US
SUMMARY:Senior Create: Pumpkin Canvas
END:VEVENT
END:VCALENDAR
