BEGIN:VCALENDAR
VERSION:2.0
PRODID:-//ogden4arts.org//NONSGML kigkonsult.se iCalcreator 2.30.10//
CALSCALE:GREGORIAN
METHOD:PUBLISH
UID:019a294b-beeb-47e2-a1e6-69a6a83f39f3
X-WR-CALDESC:
X-WR-RELCALID:12d15907237959d2fa98253eeffd1fc4
X-WR-TIMEZONE:America/Denver
BEGIN:VTIMEZONE
TZID:America/Denver
BEGIN:STANDARD
TZNAME:MST
DTSTART:20221106T020000
TZOFFSETFROM:-0600
TZOFFSETTO:-0700
RDATE:20231105T020000
RDATE:20241103T020000
END:STANDARD
BEGIN:DAYLIGHT
TZNAME:MDT
DTSTART:20230312T020000
TZOFFSETFROM:-0700
TZOFFSETTO:-0600
RDATE:20240310T020000
RDATE:20250309T020000
END:DAYLIGHT
END:VTIMEZONE
BEGIN:VEVENT
UID:3c1a88f2-724b-4ffe-92f8-4de7b46049e6
DTSTAMP:20260421T043233Z
DESCRIPTION:
DTSTART;TZID=America/Denver:20231019T193000
DTEND;TZID=America/Denver:20231019T210000
LOCATION:
SUMMARY:Wine Tasting Classes: Undiscovered Gems
END:VEVENT
END:VCALENDAR
