BEGIN:VCALENDAR
VERSION:2.0
PRODID:-//ogden4arts.org//NONSGML kigkonsult.se iCalcreator 2.30.10//
CALSCALE:GREGORIAN
METHOD:PUBLISH
UID:d94daeed-4f14-4b32-b040-8560307ce7c9
X-WR-CALDESC:Artist\, Wendy Dimick will introduce beginning watercolor to d
 aytime students on Tuesdays from 11 a.m. to 1 p.m. at the Eccles Art Cente
 r\, 2580 Jefferson Avenue\, Ogden\, October 17th through November 21\, 202
 3.  Tuition: $65.  Bring what watercolors and brushes you have teacher wil
 l provide paper. Register online at www.ogden4arts.org or by calling a mem
 ber of the art center staff at 801-392-6935.
X-WR-RELCALID:3929d11338ca9947a83d6705084249f5
X-WR-TIMEZONE:America/Denver
BEGIN:VTIMEZONE
TZID:America/Denver
BEGIN:STANDARD
TZNAME:MST
DTSTART:20221106T020000
TZOFFSETFROM:-0600
TZOFFSETTO:-0700
RDATE:20231105T020000
RDATE:20241103T020000
END:STANDARD
BEGIN:DAYLIGHT
TZNAME:MDT
DTSTART:20230312T020000
TZOFFSETFROM:-0700
TZOFFSETTO:-0600
RDATE:20240310T020000
RDATE:20250309T020000
END:DAYLIGHT
END:VTIMEZONE
BEGIN:VEVENT
UID:754627d5-4ee7-4844-9d1b-e5d9145bc2fa
DTSTAMP:20260421T043258Z
DESCRIPTION:Artist\, Wendy Dimick will introduce beginning watercolor to da
 ytime students on Tuesdays from 11 a.m. to 1 p.m. at the Eccles Art Center
 \, 2580 Jefferson Avenue\, Ogden\, October 17th through November 21\, 2023
 .  Tuition: $65.  Bring what watercolors and brushes you have teacher will
  provide paper. Register online at www.ogden4arts.org or by calling a memb
 er of the art center staff at 801-392-6935.
DTSTART;TZID=America/Denver:20231017T110000
DTEND;TZID=America/Denver:20231017T130000
LOCATION:2580 Jefferson Ave\, Ogden\, UT 84401 US
SUMMARY:Introduction to Watercolor
END:VEVENT
END:VCALENDAR
