BEGIN:VCALENDAR
VERSION:2.0
PRODID:-//ogden4arts.org//NONSGML kigkonsult.se iCalcreator 2.30.10//
CALSCALE:GREGORIAN
METHOD:PUBLISH
UID:58af776c-7d24-4f41-a8b9-6f553f9e9725
X-WR-CALDESC:A daytime Seniors Create! class for those 55 + will be offered
  at the Eccles Art Center\, 2580 Jefferson Avenue\, Ogden on Friday\, Octo
 ber 13\, 2023 from 11 to noon.  Students create a felt pumpkin or jack O’ 
 lantern lapel brooch or tie pin.  Tuition: $10.  Pre-registration is reque
 sted and may be done on-line at www.ogden4arts.org or by calling the art c
 enter staff at 801-392-6935.
X-WR-RELCALID:1f5b918784ea24d62d2bfa25b996f0f1
X-WR-TIMEZONE:America/Denver
BEGIN:VTIMEZONE
TZID:America/Denver
BEGIN:STANDARD
TZNAME:MST
DTSTART:20221106T020000
TZOFFSETFROM:-0600
TZOFFSETTO:-0700
RDATE:20231105T020000
RDATE:20241103T020000
END:STANDARD
BEGIN:DAYLIGHT
TZNAME:MDT
DTSTART:20230312T020000
TZOFFSETFROM:-0700
TZOFFSETTO:-0600
RDATE:20240310T020000
RDATE:20250309T020000
END:DAYLIGHT
END:VTIMEZONE
BEGIN:VEVENT
UID:3c0e35ae-6de7-4753-b697-0d5aeb619520
DTSTAMP:20260421T043258Z
DESCRIPTION:A daytime Seniors Create! class for those 55 + will be offered 
 at the Eccles Art Center\, 2580 Jefferson Avenue\, Ogden on Friday\, Octob
 er 13\, 2023 from 11 to noon.  Students create a felt pumpkin or jack O’ l
 antern lapel brooch or tie pin.  Tuition: $10.  Pre-registration is reques
 ted and may be done on-line at www.ogden4arts.org or by calling the art ce
 nter staff at 801-392-6935.
DTSTART;TZID=America/Denver:20231013T110000
DTEND;TZID=America/Denver:20231013T120000
LOCATION:2580 Jefferson Ave\, Ogden\, UT 84401 US
SUMMARY:Seniors Create: Pumpkin Brooch
END:VEVENT
END:VCALENDAR
