BEGIN:VCALENDAR
VERSION:2.0
PRODID:-//ogden4arts.org//NONSGML kigkonsult.se iCalcreator 2.30.10//
CALSCALE:GREGORIAN
METHOD:PUBLISH
UID:3e60a29a-ddc1-4f96-a470-4a32184fbe8d
X-WR-CALDESC:Instructor\, David Weiskopf will bring Weber Morgan Health Dep
 artment’s Tai Chi for Health to the Eccles Art Center\, 2580 Jefferson Ave
 nue Ogden on Monday evenings from 7 to 9 p.m.  beginning September 25\, 20
 23.  The art center’s website will assist registration through Health Depa
 rtment.
X-WR-RELCALID:0b0e2acea5180d6ecbbb72480401bee3
X-WR-TIMEZONE:America/Denver
BEGIN:VTIMEZONE
TZID:America/Denver
BEGIN:STANDARD
TZNAME:MST
DTSTART:20221106T020000
TZOFFSETFROM:-0600
TZOFFSETTO:-0700
RDATE:20231105T020000
RDATE:20241103T020000
END:STANDARD
BEGIN:DAYLIGHT
TZNAME:MDT
DTSTART:20230312T020000
TZOFFSETFROM:-0700
TZOFFSETTO:-0600
RDATE:20240310T020000
RDATE:20250309T020000
END:DAYLIGHT
END:VTIMEZONE
BEGIN:VEVENT
UID:f130bd06-0c55-4016-9148-5a345f2bec56
DTSTAMP:20260421T043731Z
DESCRIPTION:Instructor\, David Weiskopf will bring Weber Morgan Health Depa
 rtment’s Tai Chi for Health to the Eccles Art Center\, 2580 Jefferson Aven
 ue Ogden on Monday evenings from 7 to 9 p.m.  beginning September 25\, 202
 3.  The art center’s website will assist registration through Health Depar
 tment.
DTSTART;TZID=America/Denver:20231009T190000
DTEND;TZID=America/Denver:20231009T200000
LOCATION:2580 Jefferson Ave\, Ogden\, UT 84401 US
SUMMARY:Tai Chi for Health with David Weiskopf
END:VEVENT
END:VCALENDAR
