BEGIN:VCALENDAR
VERSION:2.0
PRODID:-//ogden4arts.org//NONSGML kigkonsult.se iCalcreator 2.30.10//
CALSCALE:GREGORIAN
METHOD:PUBLISH
UID:d5e5d8d5-d042-43d7-96a2-882fc2f19523
X-WR-CALDESC:Certified Yoga instructor\, Crystal Hansen will offer a Story 
 Time Yoga workshop for children ages 6 to 10 years old at the Eccles Art C
 enter\, 2580 Jefferson Avenue\, Ogden beginning September 6\, 2023 from 4 
 to 5 p.m.  Six-weeks Tuition: $75 Drop-in $12.  Pre-registration is reques
 ted.  To register online visit: www.ogden4arts.org or call a member of the
  art center staff at 801-392-6935.\n\n
X-WR-RELCALID:3664c95fb1ef6c1c88b54459313dcd96
X-WR-TIMEZONE:America/Denver
BEGIN:VTIMEZONE
TZID:America/Denver
BEGIN:STANDARD
TZNAME:MST
DTSTART:20221106T020000
TZOFFSETFROM:-0600
TZOFFSETTO:-0700
RDATE:20231105T020000
RDATE:20241103T020000
END:STANDARD
BEGIN:DAYLIGHT
TZNAME:MDT
DTSTART:20230312T020000
TZOFFSETFROM:-0700
TZOFFSETTO:-0600
RDATE:20240310T020000
RDATE:20250309T020000
END:DAYLIGHT
END:VTIMEZONE
BEGIN:VEVENT
UID:48a56dcc-9ad0-46f0-af04-64d88af71ed7
DTSTAMP:20260421T043915Z
DESCRIPTION:Certified Yoga instructor\, Crystal Hansen will offer a Story T
 ime Yoga workshop for children ages 6 to 10 years old at the Eccles Art Ce
 nter\, 2580 Jefferson Avenue\, Ogden beginning September 6\, 2023 from 4 t
 o 5 p.m.  Six-weeks Tuition: $75 Drop-in $12.  Pre-registration is request
 ed.  To register online visit: www.ogden4arts.org or call a member of the 
 art center staff at 801-392-6935.\n\n
DTSTART;TZID=America/Denver:20231004T160000
DTEND;TZID=America/Denver:20231004T170000
LOCATION:2580 Jefferson Ave\, Ogden\, UT 84401 US
SUMMARY:Story Time Yoga ages 6 to 10
END:VEVENT
END:VCALENDAR
