BEGIN:VCALENDAR
VERSION:2.0
PRODID:-//ogden4arts.org//NONSGML kigkonsult.se iCalcreator 2.30.10//
CALSCALE:GREGORIAN
METHOD:PUBLISH
UID:71d05b8d-7bd5-42fc-a19d-74060e87b84f
X-WR-CALDESC:The Eccles Art Center\, 2580 Jefferson Avenue\, Ogden has a mo
 rning Tai Chi class that meets Tuesday and Thursday mornings 9:30 to 10:30
  a.m. under the direction of Lyle Smith in our performing arts building.  
 Tuition: ten punch pass: $55\, Drop-in Daily $7.  Register on-line at www.
 ogden4arts.org
X-WR-RELCALID:94ccbc8951415207f82eff843c28d963
X-WR-TIMEZONE:America/Denver
BEGIN:VTIMEZONE
TZID:America/Denver
BEGIN:STANDARD
TZNAME:MST
DTSTART:20221106T020000
TZOFFSETFROM:-0600
TZOFFSETTO:-0700
RDATE:20231105T020000
RDATE:20241103T020000
END:STANDARD
BEGIN:DAYLIGHT
TZNAME:MDT
DTSTART:20230312T020000
TZOFFSETFROM:-0700
TZOFFSETTO:-0600
RDATE:20240310T020000
RDATE:20250309T020000
END:DAYLIGHT
END:VTIMEZONE
BEGIN:VEVENT
UID:e626692f-a660-4ff2-bee2-5a62a20bc3ce
DTSTAMP:20260421T043522Z
DESCRIPTION:The Eccles Art Center\, 2580 Jefferson Avenue\, Ogden has a mor
 ning Tai Chi class that meets Tuesday and Thursday mornings 9:30 to 10:30 
 a.m. under the direction of Lyle Smith in our performing arts building.  T
 uition: ten punch pass: $55\, Drop-in Daily $7.  Register on-line at www.o
 gden4arts.org
DTSTART;TZID=America/Denver:20231003T093000
DTEND;TZID=America/Denver:20231003T103000
LOCATION:2580 Jefferson Ave\, Ogden\, UT 84401 US
SUMMARY:Morning Tai Chi
END:VEVENT
END:VCALENDAR
