BEGIN:VCALENDAR
VERSION:2.0
PRODID:-//ogden4arts.org//NONSGML kigkonsult.se iCalcreator 2.30.10//
CALSCALE:GREGORIAN
METHOD:PUBLISH
UID:46ed0bd9-3106-4ca3-b94d-9410509975ab
X-WR-CALDESC:Instructor\, David Weiskopf will bring Weber Morgan Health Dep
 artment’s Tai Chi for Health to the Eccles Art Center\, 2580 Jefferson Ave
 nue Ogden on Monday evenings from 7 to 9 p.m.  beginning September 25\, 20
 23.  The art center’s website will assist registration through Health Depa
 rtment.
X-WR-RELCALID:208f17c2a415b27b8be6360cad8c240f
X-WR-TIMEZONE:America/Denver
BEGIN:VTIMEZONE
TZID:America/Denver
BEGIN:STANDARD
TZNAME:MST
DTSTART:20221106T020000
TZOFFSETFROM:-0600
TZOFFSETTO:-0700
RDATE:20231105T020000
RDATE:20241103T020000
END:STANDARD
BEGIN:DAYLIGHT
TZNAME:MDT
DTSTART:20230312T020000
TZOFFSETFROM:-0700
TZOFFSETTO:-0600
RDATE:20240310T020000
RDATE:20250309T020000
END:DAYLIGHT
END:VTIMEZONE
BEGIN:VEVENT
UID:7e147a6a-a5e4-4e78-bd38-1a6a5a25f15e
DTSTAMP:20260421T043726Z
DESCRIPTION:Instructor\, David Weiskopf will bring Weber Morgan Health Depa
 rtment’s Tai Chi for Health to the Eccles Art Center\, 2580 Jefferson Aven
 ue Ogden on Monday evenings from 7 to 9 p.m.  beginning September 25\, 202
 3.  The art center’s website will assist registration through Health Depar
 tment.
DTSTART;TZID=America/Denver:20231002T190000
DTEND;TZID=America/Denver:20231002T200000
LOCATION:2580 Jefferson Ave\, Ogden\, UT 84401 US
SUMMARY:Tai Chi for Health with David Weiskopf
END:VEVENT
END:VCALENDAR
