BEGIN:VCALENDAR
VERSION:2.0
PRODID:-//ogden4arts.org//NONSGML kigkonsult.se iCalcreator 2.30.10//
CALSCALE:GREGORIAN
METHOD:PUBLISH
UID:09ed7490-f941-420b-ac87-da2cbe4d04ff
X-WR-CALDESC:A daytime Seniors Create! class for those 55 + will be offered
  at the Eccles Art Center\, 2580 Jefferson Avenue\, Ogden on Friday\, Sept
 ember 29\, 2023 from 11 to noon.  Students will sew a simple pumpkin pin c
 ushion.  Tuition: $10.  Pre-registration is requested and may be done on-l
 ine at www.ogden4arts.org or by calling the art center staff at 801-392-69
 35.\n\n
X-WR-RELCALID:ac254764e386e37e60bd15822e02a977
X-WR-TIMEZONE:America/Denver
BEGIN:VTIMEZONE
TZID:America/Denver
BEGIN:STANDARD
TZNAME:MST
DTSTART:20221106T020000
TZOFFSETFROM:-0600
TZOFFSETTO:-0700
RDATE:20231105T020000
RDATE:20241103T020000
END:STANDARD
BEGIN:DAYLIGHT
TZNAME:MDT
DTSTART:20230312T020000
TZOFFSETFROM:-0700
TZOFFSETTO:-0600
RDATE:20240310T020000
RDATE:20250309T020000
END:DAYLIGHT
END:VTIMEZONE
BEGIN:VEVENT
UID:fd1c0c9b-f994-4b84-b5d3-131432bddf9d
DTSTAMP:20260421T060738Z
DESCRIPTION:A daytime Seniors Create! class for those 55 + will be offered 
 at the Eccles Art Center\, 2580 Jefferson Avenue\, Ogden on Friday\, Septe
 mber 29\, 2023 from 11 to noon.  Students will sew a simple pumpkin pin cu
 shion.  Tuition: $10.  Pre-registration is requested and may be done on-li
 ne at www.ogden4arts.org or by calling the art center staff at 801-392-693
 5.\n\n
DTSTART;TZID=America/Denver:20230929T110000
DTEND;TZID=America/Denver:20230929T120000
LOCATION:2580 Jefferson Ave\, Ogden\, UT 84401 US
SUMMARY:Seniors Create: Pin a Pumpkin
END:VEVENT
END:VCALENDAR
