BEGIN:VCALENDAR
VERSION:2.0
PRODID:-//ogden4arts.org//NONSGML kigkonsult.se iCalcreator 2.30.10//
CALSCALE:GREGORIAN
METHOD:PUBLISH
UID:789e81e6-7951-4f5c-9ee2-49271bed64f9
X-WR-CALDESC:Chair Yoga at the Eccles Art Center\, 2580 Jefferson Avenue\, 
 Ogden with Mimi McKenzie from noon to 1 p.m. Chair Yoga is a gentle practi
 ce that assist students to mindfully increase their range of motion\, stre
 ngth and flexibility.  Tuesday\, September 5 through October 10\, 2023.  S
 ix weeks tuition: $80.  Daily Drop-in $14. Register online: www.ogden4arts
 .org or by calling an art staff member at 801-392-6935.
X-WR-RELCALID:5017e043788bd3c1116baa842696ad2d
X-WR-TIMEZONE:America/Denver
BEGIN:VTIMEZONE
TZID:America/Denver
BEGIN:STANDARD
TZNAME:MST
DTSTART:20221106T020000
TZOFFSETFROM:-0600
TZOFFSETTO:-0700
RDATE:20231105T020000
RDATE:20241103T020000
END:STANDARD
BEGIN:DAYLIGHT
TZNAME:MDT
DTSTART:20230312T020000
TZOFFSETFROM:-0700
TZOFFSETTO:-0600
RDATE:20240310T020000
RDATE:20250309T020000
END:DAYLIGHT
END:VTIMEZONE
BEGIN:VEVENT
UID:28589b9a-50d3-4481-a902-97c45bb66e6f
DTSTAMP:20260421T061120Z
DESCRIPTION:Chair Yoga at the Eccles Art Center\, 2580 Jefferson Avenue\, O
 gden with Mimi McKenzie from noon to 1 p.m. Chair Yoga is a gentle practic
 e that assist students to mindfully increase their range of motion\, stren
 gth and flexibility.  Tuesday\, September 5 through October 10\, 2023.  Si
 x weeks tuition: $80.  Daily Drop-in $14. Register online: www.ogden4arts.
 org or by calling an art staff member at 801-392-6935.
DTSTART;TZID=America/Denver:20230926T120000
DTEND;TZID=America/Denver:20230926T130000
LOCATION:2580 Jefferson Ave\, Ogden\, UT 84401 US
SUMMARY:Chair Yoga with Mimi Mackenzie
END:VEVENT
END:VCALENDAR
