BEGIN:VCALENDAR
VERSION:2.0
PRODID:-//ogden4arts.org//NONSGML kigkonsult.se iCalcreator 2.30.10//
CALSCALE:GREGORIAN
METHOD:PUBLISH
UID:61264b03-ba6c-45c1-b386-6848bff33ff9
X-WR-CALDESC:A daytime Seniors Create! class for those 55 + will be offered
  at the Eccles Art Center\, 2580 Jefferson Avenue\, Ogden on Friday\, Sept
 ember 22 from 11 to noon.  Students will use the center’s Fall into Floral
 s for inspiration to create a 5 x 7 framed watercolor.  Tuition: $10.  Pre
 -registration is requested and may be done on-line at www.ogden4arts.org o
 r by calling the art center staff at 801-392-6935.
X-WR-RELCALID:46a7923cafc8262a9cacc6e2803d0a92
X-WR-TIMEZONE:America/Denver
BEGIN:VTIMEZONE
TZID:America/Denver
BEGIN:STANDARD
TZNAME:MST
DTSTART:20221106T020000
TZOFFSETFROM:-0600
TZOFFSETTO:-0700
RDATE:20231105T020000
RDATE:20241103T020000
END:STANDARD
BEGIN:DAYLIGHT
TZNAME:MDT
DTSTART:20230312T020000
TZOFFSETFROM:-0700
TZOFFSETTO:-0600
RDATE:20240310T020000
RDATE:20250309T020000
END:DAYLIGHT
END:VTIMEZONE
BEGIN:VEVENT
UID:5ec007f6-06aa-489b-a657-4c44ec133141
DTSTAMP:20260421T060723Z
DESCRIPTION:A daytime Seniors Create! class for those 55 + will be offered 
 at the Eccles Art Center\, 2580 Jefferson Avenue\, Ogden on Friday\, Septe
 mber 22 from 11 to noon.  Students will use the center’s Fall into Florals
  for inspiration to create a 5 x 7 framed watercolor.  Tuition: $10.  Pre-
 registration is requested and may be done on-line at www.ogden4arts.org or
  by calling the art center staff at 801-392-6935.
DTSTART;TZID=America/Denver:20230922T110000
DTEND;TZID=America/Denver:20230922T120000
LOCATION:2580 Jefferson Ave\, Ogden\, UT 84401 US
SUMMARY:Seniors Create!: Fall Watercolor
END:VEVENT
END:VCALENDAR
