BEGIN:VCALENDAR
VERSION:2.0
PRODID:-//ogden4arts.org//NONSGML kigkonsult.se iCalcreator 2.30.10//
CALSCALE:GREGORIAN
METHOD:PUBLISH
UID:3b1a995c-f28c-4d1d-9ba3-16985fd066ad
X-WR-CALDESC:Registration for the Wine Tasting: Best Bottle class at the EA
 C\, September 21st - October 12th
X-WR-RELCALID:c5874e9c1f7fbb7201660fec76052878
X-WR-TIMEZONE:America/Denver
BEGIN:VTIMEZONE
TZID:America/Denver
BEGIN:STANDARD
TZNAME:MST
DTSTART:20221106T020000
TZOFFSETFROM:-0600
TZOFFSETTO:-0700
RDATE:20231105T020000
RDATE:20241103T020000
END:STANDARD
BEGIN:DAYLIGHT
TZNAME:MDT
DTSTART:20230312T020000
TZOFFSETFROM:-0700
TZOFFSETTO:-0600
RDATE:20240310T020000
RDATE:20250309T020000
END:DAYLIGHT
END:VTIMEZONE
BEGIN:VEVENT
UID:bd9dbc50-f4b1-4948-a7fd-07b7c9de8d39
DTSTAMP:20260421T060627Z
DESCRIPTION:Registration for the Wine Tasting: Best Bottle class at the EAC
 \, September 21st - October 12th
DTSTART;TZID=America/Denver:20230921T193000
DTEND;TZID=America/Denver:20230921T210000
LOCATION:
SUMMARY:Wine Tasting Classes: Best Bottle
END:VEVENT
END:VCALENDAR
