BEGIN:VCALENDAR
VERSION:2.0
PRODID:-//ogden4arts.org//NONSGML kigkonsult.se iCalcreator 2.30.10//
CALSCALE:GREGORIAN
METHOD:PUBLISH
UID:4eeb0cc1-2089-4c28-a9c8-2c04341c5048
X-WR-CALDESC:Artist\, Pamela Murphy will offer a Creative Minds Art Class f
 or children ages 6 to 9 years old at the Eccles Art Center\, 2580 Jefferso
 n avenue\, Ogden on Thursday afternoon from 4 to 5 p.m. September 21 throu
 gh October 26\, 2023.  Tuition/child: $80 includes supplies. Please pre-re
 gister at www.ogden4arts.org or by calling a member of the art center staf
 f at 801-392-6935.
X-WR-RELCALID:2fa8f71d770fac208170428cce3fa776
X-WR-TIMEZONE:America/Denver
BEGIN:VTIMEZONE
TZID:America/Denver
BEGIN:STANDARD
TZNAME:MST
DTSTART:20221106T020000
TZOFFSETFROM:-0600
TZOFFSETTO:-0700
RDATE:20231105T020000
RDATE:20241103T020000
END:STANDARD
BEGIN:DAYLIGHT
TZNAME:MDT
DTSTART:20230312T020000
TZOFFSETFROM:-0700
TZOFFSETTO:-0600
RDATE:20240310T020000
RDATE:20250309T020000
END:DAYLIGHT
END:VTIMEZONE
BEGIN:VEVENT
UID:46b18bf0-810f-42df-b6db-b64a78d1f8b3
DTSTAMP:20260421T060632Z
DESCRIPTION:Artist\, Pamela Murphy will offer a Creative Minds Art Class fo
 r children ages 6 to 9 years old at the Eccles Art Center\, 2580 Jefferson
  avenue\, Ogden on Thursday afternoon from 4 to 5 p.m. September 21 throug
 h October 26\, 2023.  Tuition/child: $80 includes supplies. Please pre-reg
 ister at www.ogden4arts.org or by calling a member of the art center staff
  at 801-392-6935.
DTSTART;TZID=America/Denver:20230921T160000
DTEND;TZID=America/Denver:20230921T170000
LOCATION:2580 Jefferson Ave\, Ogden\, UT 84401 US
SUMMARY:Creative Minds with Pamela Murphy
END:VEVENT
END:VCALENDAR
