BEGIN:VCALENDAR
VERSION:2.0
PRODID:-//ogden4arts.org//NONSGML kigkonsult.se iCalcreator 2.30.10//
CALSCALE:GREGORIAN
METHOD:PUBLISH
UID:67782d5f-a578-4e7f-b9a3-00716fa9f77d
X-WR-CALDESC:SatMandir Khalsa begins a 8 week session of Kundalini Yoga on 
 Wednesdays from 6:00 to 7:15 p.m. September 20 through November 8\, 2023 a
 t the Eccles Art Center\, 2580 Jefferson Avenue\, Ogden.  Tuition: $55.  R
 egister through the center’s website or by calling a member of staff at 80
 1-392-6935.  SatMandir Khalsa has been teaching Kundalini Yoga at the cent
 er since 1976.
X-WR-RELCALID:c7e29579d19c936a66dd825c5fd09f28
X-WR-TIMEZONE:America/Denver
BEGIN:VTIMEZONE
TZID:America/Denver
BEGIN:STANDARD
TZNAME:MST
DTSTART:20221106T020000
TZOFFSETFROM:-0600
TZOFFSETTO:-0700
RDATE:20231105T020000
RDATE:20241103T020000
END:STANDARD
BEGIN:DAYLIGHT
TZNAME:MDT
DTSTART:20230312T020000
TZOFFSETFROM:-0700
TZOFFSETTO:-0600
RDATE:20240310T020000
RDATE:20250309T020000
END:DAYLIGHT
END:VTIMEZONE
BEGIN:VEVENT
UID:ccb2f0a9-16f8-4b76-b780-1422441d5bac
DTSTAMP:20260421T060844Z
DESCRIPTION:SatMandir Khalsa begins a 8 week session of Kundalini Yoga on W
 ednesdays from 6:00 to 7:15 p.m. September 20 through November 8\, 2023 at
  the Eccles Art Center\, 2580 Jefferson Avenue\, Ogden.  Tuition: $55.  Re
 gister through the center’s website or by calling a member of staff at 801
 -392-6935.  SatMandir Khalsa has been teaching Kundalini Yoga at the cente
 r since 1976.
DTSTART;TZID=America/Denver:20230920T180000
DTEND;TZID=America/Denver:20230920T191500
LOCATION:2580 Jefferson Ave\, Ogden\, UT 84401 US
SUMMARY:Kundalini Yoga with SatMandir Khalsa
END:VEVENT
END:VCALENDAR
