BEGIN:VCALENDAR
VERSION:2.0
PRODID:-//ogden4arts.org//NONSGML kigkonsult.se iCalcreator 2.30.10//
CALSCALE:GREGORIAN
METHOD:PUBLISH
UID:73b8b5f3-a8f9-4f9b-88e8-38b0135eab13
X-WR-CALDESC:Artist Clarissa Sizemore will explore beginning acrylic painti
 ng with adult students on Wednesday evenings from 6:30 to 8:30 p.m. Septem
 ber 20 through October 5\, 2023 at the Eccles Art Center\, 2580 Jefferson 
 Avenue\, Ogden.  A supply list is available for registering students.  Tui
 tion: $45.  Please register online at www.ogden4arts.org or by calling a m
 ember of the center’s staff at 801-392-6935.
X-WR-RELCALID:b95795d58a8f96de58886d4ddd51dab9
X-WR-TIMEZONE:America/Denver
BEGIN:VTIMEZONE
TZID:America/Denver
BEGIN:STANDARD
TZNAME:MST
DTSTART:20221106T020000
TZOFFSETFROM:-0600
TZOFFSETTO:-0700
RDATE:20231105T020000
RDATE:20241103T020000
END:STANDARD
BEGIN:DAYLIGHT
TZNAME:MDT
DTSTART:20230312T020000
TZOFFSETFROM:-0700
TZOFFSETTO:-0600
RDATE:20240310T020000
RDATE:20250309T020000
END:DAYLIGHT
END:VTIMEZONE
BEGIN:VEVENT
UID:33eceec2-2bae-4ed3-a7f0-82330c47b4b7
DTSTAMP:20260421T060723Z
DESCRIPTION:Artist Clarissa Sizemore will explore beginning acrylic paintin
 g with adult students on Wednesday evenings from 6:30 to 8:30 p.m. Septemb
 er 20 through October 5\, 2023 at the Eccles Art Center\, 2580 Jefferson A
 venue\, Ogden.  A supply list is available for registering students.  Tuit
 ion: $45.  Please register online at www.ogden4arts.org or by calling a me
 mber of the center’s staff at 801-392-6935.
DTSTART;TZID=America/Denver:20230920T183000
DTEND;TZID=America/Denver:20230920T203000
LOCATION:2580 Jefferson Ave\, Ogden\, UT 84401 US
SUMMARY:Beginning Acrylic Painting
END:VEVENT
END:VCALENDAR
