BEGIN:VCALENDAR
VERSION:2.0
PRODID:-//ogden4arts.org//NONSGML kigkonsult.se iCalcreator 2.30.10//
CALSCALE:GREGORIAN
METHOD:PUBLISH
UID:8a4a82c2-5268-4255-a2db-3218b8daf57b
X-WR-CALDESC:Certified instructor\, Crystal Hansen will lead an Introductio
 n to Sun Salutation Yoga workshop on Monday and Wednesday mornings 9:30 to
  10:30 a.m. at the Eccles Art Center’s Performing Arts Building\, 2580 Jef
 ferson Avenue\, Ogden September 6th through September 20\, 2023.  Three-we
 ek Tuition (6 classes): $90.  Drop-in $15.  Register online at www.ogden4a
 rts.org.
X-WR-RELCALID:1286f184c8a507fabf112c0e8b57dc5a
X-WR-TIMEZONE:America/Denver
BEGIN:VTIMEZONE
TZID:America/Denver
BEGIN:STANDARD
TZNAME:MST
DTSTART:20221106T020000
TZOFFSETFROM:-0600
TZOFFSETTO:-0700
RDATE:20231105T020000
RDATE:20241103T020000
END:STANDARD
BEGIN:DAYLIGHT
TZNAME:MDT
DTSTART:20230312T020000
TZOFFSETFROM:-0700
TZOFFSETTO:-0600
RDATE:20240310T020000
RDATE:20250309T020000
END:DAYLIGHT
END:VTIMEZONE
BEGIN:VEVENT
UID:7924483d-3a2b-42c9-bede-600055e38c02
DTSTAMP:20260421T061059Z
DESCRIPTION:Certified instructor\, Crystal Hansen will lead an Introduction
  to Sun Salutation Yoga workshop on Monday and Wednesday mornings 9:30 to 
 10:30 a.m. at the Eccles Art Center’s Performing Arts Building\, 2580 Jeff
 erson Avenue\, Ogden September 6th through September 20\, 2023.  Three-wee
 k Tuition (6 classes): $90.  Drop-in $15.  Register online at www.ogden4ar
 ts.org.
DTSTART;TZID=America/Denver:20230920T093000
DTEND;TZID=America/Denver:20230920T103000
LOCATION:2580 Jefferson Ave\, Ogden\, UT 84401 US
SUMMARY:Introduction to Sun Salutation Yoga
END:VEVENT
END:VCALENDAR
