BEGIN:VCALENDAR
VERSION:2.0
PRODID:-//ogden4arts.org//NONSGML kigkonsult.se iCalcreator 2.30.10//
CALSCALE:GREGORIAN
METHOD:PUBLISH
UID:ea68af50-3f9a-4682-99bb-9db8258af571
X-WR-CALDESC:Artist\, Pamela Murphy will teach Fine Arts Tuesday from 4 to 
 5:30 p.m. for children ages 10 to 15 years old at the Eccles Art Center\, 
 2580 Jefferson Avenue\, Ogden September 19th through November 14\, 2023.  
 New projects and concepts will be introduced. Class size is limited. Eight
 -week session: $125.  Please pre-register at www.ogden4arts.org or by call
 ing a member of the art center staff at 801-392-6935.\n\n
X-WR-RELCALID:004a3e740b91763f58d1c229e5bc43e9
X-WR-TIMEZONE:America/Denver
BEGIN:VTIMEZONE
TZID:America/Denver
BEGIN:STANDARD
TZNAME:MST
DTSTART:20221106T020000
TZOFFSETFROM:-0600
TZOFFSETTO:-0700
RDATE:20231105T020000
RDATE:20241103T020000
END:STANDARD
BEGIN:DAYLIGHT
TZNAME:MDT
DTSTART:20230312T020000
TZOFFSETFROM:-0700
TZOFFSETTO:-0600
RDATE:20240310T020000
RDATE:20250309T020000
END:DAYLIGHT
END:VTIMEZONE
BEGIN:VEVENT
UID:a6605fea-2d93-44fe-a165-59fde3ea89be
DTSTAMP:20260421T060754Z
DESCRIPTION:Artist\, Pamela Murphy will teach Fine Arts Tuesday from 4 to 5
 :30 p.m. for children ages 10 to 15 years old at the Eccles Art Center\, 2
 580 Jefferson Avenue\, Ogden September 19th through November 14\, 2023.  N
 ew projects and concepts will be introduced. Class size is limited. Eight-
 week session: $125.  Please pre-register at www.ogden4arts.org or by calli
 ng a member of the art center staff at 801-392-6935.\n\n
DTSTART;TZID=America/Denver:20230919T160000
DTEND;TZID=America/Denver:20230919T173000
LOCATION:2580 Jefferson Ave\, Ogden\, UT 84401 US
SUMMARY:Fine Arts with Pamela Murphy
END:VEVENT
END:VCALENDAR
