BEGIN:VCALENDAR
VERSION:2.0
PRODID:-//ogden4arts.org//NONSGML kigkonsult.se iCalcreator 2.30.10//
CALSCALE:GREGORIAN
METHOD:PUBLISH
UID:46b36f1d-1b10-4610-b6a2-31d126a19c67
X-WR-CALDESC:Artist\, Pamela Murphy will teach Fine Arts Monday from 4 to 5
 :30 p.m. for children ages 10 to 15 years old at the Eccles Art Center\, 2
 580 Jefferson Avenue\, Ogden September 18th through November 13\, 2023.  N
 ew projects and concepts will be introduced. Class size is limited. Eight-
 week session: $125.  Please pre-register at www.ogden4arts.org or by calli
 ng a member of the art center staff at 801-392-6935.
X-WR-RELCALID:111346a25622f92eb57084367b2e0e2d
X-WR-TIMEZONE:America/Denver
BEGIN:VTIMEZONE
TZID:America/Denver
BEGIN:STANDARD
TZNAME:MST
DTSTART:20221106T020000
TZOFFSETFROM:-0600
TZOFFSETTO:-0700
RDATE:20231105T020000
RDATE:20241103T020000
END:STANDARD
BEGIN:DAYLIGHT
TZNAME:MDT
DTSTART:20230312T020000
TZOFFSETFROM:-0700
TZOFFSETTO:-0600
RDATE:20240310T020000
RDATE:20250309T020000
END:DAYLIGHT
END:VTIMEZONE
BEGIN:VEVENT
UID:010c1598-7fc2-4f4e-87d0-8524ac79b2a7
DTSTAMP:20260421T060754Z
DESCRIPTION:Artist\, Pamela Murphy will teach Fine Arts Monday from 4 to 5:
 30 p.m. for children ages 10 to 15 years old at the Eccles Art Center\, 25
 80 Jefferson Avenue\, Ogden September 18th through November 13\, 2023.  Ne
 w projects and concepts will be introduced. Class size is limited. Eight-w
 eek session: $125.  Please pre-register at www.ogden4arts.org or by callin
 g a member of the art center staff at 801-392-6935.
DTSTART;TZID=America/Denver:20230918T160000
DTEND;TZID=America/Denver:20230918T173000
LOCATION:2580 Jefferson Ave\, Ogden\, UT 84401 US
SUMMARY:Fine Arts with Pamela Murphy
END:VEVENT
END:VCALENDAR
