BEGIN:VCALENDAR
VERSION:2.0
PRODID:-//ogden4arts.org//NONSGML kigkonsult.se iCalcreator 2.30.10//
CALSCALE:GREGORIAN
METHOD:PUBLISH
UID:ab00b8f1-f4f9-4d4f-a949-f019889d3dab
X-WR-CALDESC:The Eccles Art Center\, 2580 Jefferson Avenue\, Ogden has a mo
 rning Tai Chi class that meets Tuesday and Thursday mornings 9:30 to 10:30
  a.m. under the direction of Lyle Smith in our performing arts building.  
 Tuition: ten punch pass: $55\, Drop-in Daily $7.  Register on-line at www.
 ogden4arts.org
X-WR-RELCALID:161a8e989b4871bce39027a042ce0846
X-WR-TIMEZONE:America/Denver
BEGIN:VTIMEZONE
TZID:America/Denver
BEGIN:STANDARD
TZNAME:MST
DTSTART:20221106T020000
TZOFFSETFROM:-0600
TZOFFSETTO:-0700
RDATE:20231105T020000
RDATE:20241103T020000
END:STANDARD
BEGIN:DAYLIGHT
TZNAME:MDT
DTSTART:20230312T020000
TZOFFSETFROM:-0700
TZOFFSETTO:-0600
RDATE:20240310T020000
RDATE:20250309T020000
END:DAYLIGHT
END:VTIMEZONE
BEGIN:VEVENT
UID:c401678f-cf7f-4d67-a771-e54d7130d945
DTSTAMP:20260421T061028Z
DESCRIPTION:The Eccles Art Center\, 2580 Jefferson Avenue\, Ogden has a mor
 ning Tai Chi class that meets Tuesday and Thursday mornings 9:30 to 10:30 
 a.m. under the direction of Lyle Smith in our performing arts building.  T
 uition: ten punch pass: $55\, Drop-in Daily $7.  Register on-line at www.o
 gden4arts.org
DTSTART;TZID=America/Denver:20230914T093000
DTEND;TZID=America/Denver:20230914T103000
LOCATION:2580 Jefferson Ave\, Ogden\, UT 84401 US
SUMMARY:Morning Tai Chi
END:VEVENT
END:VCALENDAR
