BEGIN:VCALENDAR
VERSION:2.0
PRODID:-//ogden4arts.org//NONSGML kigkonsult.se iCalcreator 2.30.10//
CALSCALE:GREGORIAN
METHOD:PUBLISH
UID:5456f8f6-be1f-4c11-8c40-f93846c1db62
X-WR-CALDESC:Join photographer Bruce Frandsen for Photo Fun: Turn your ordi
 nary photos into an engaging experience at the Eccles Art Center\, 2580 Je
 fferson Avenue\, Ogden on Tuesday\, September 12\, 2023 from 6:30 to 8:30 
 p.m.  Tuition: $25.  Please pre-register online at www.ogden4arts.org or b
 y calling a member of the center’s staff at 801-392-6935.\n\n
X-WR-RELCALID:f61af60a1a6fc045090fd7d91b3dbb2c
X-WR-TIMEZONE:America/Denver
BEGIN:VTIMEZONE
TZID:America/Denver
BEGIN:STANDARD
TZNAME:MST
DTSTART:20221106T020000
TZOFFSETFROM:-0600
TZOFFSETTO:-0700
RDATE:20231105T020000
RDATE:20241103T020000
END:STANDARD
BEGIN:DAYLIGHT
TZNAME:MDT
DTSTART:20230312T020000
TZOFFSETFROM:-0700
TZOFFSETTO:-0600
RDATE:20240310T020000
RDATE:20250309T020000
END:DAYLIGHT
END:VTIMEZONE
BEGIN:VEVENT
UID:ae38761c-b1c1-47b6-acd0-8828ebe90837
DTSTAMP:20260421T060753Z
DESCRIPTION:Join photographer Bruce Frandsen for Photo Fun: Turn your ordin
 ary photos into an engaging experience at the Eccles Art Center\, 2580 Jef
 ferson Avenue\, Ogden on Tuesday\, September 12\, 2023 from 6:30 to 8:30 p
 .m.  Tuition: $25.  Please pre-register online at www.ogden4arts.org or by
  calling a member of the center’s staff at 801-392-6935.\n\n
DTSTART;TZID=America/Denver:20230912T183000
DTEND;TZID=America/Denver:20230912T203000
LOCATION:2580 Jefferson Ave\, Ogden\, UT 84401 US
SUMMARY:Photo Fun with Bruce Frandsen
END:VEVENT
END:VCALENDAR
