BEGIN:VCALENDAR
VERSION:2.0
PRODID:-//ogden4arts.org//NONSGML kigkonsult.se iCalcreator 2.30.10//
CALSCALE:GREGORIAN
METHOD:PUBLISH
UID:fa4092f3-e868-4c2e-960b-a6af2384ce31
X-WR-CALDESC:Artist\, Terrece Beesley will offer an Intermediate Watercolor
  Studio Workshop at the Eccles Art Center\, 2580 Jefferson Avenue\, Ogden 
 on Monday evenings from 6:30 to 8:30 p.m. September 11\, through October 3
 0\, 2023 (class will not be held October 2nd). Class size is limited.  A s
 upply list will be provided to registering students.  Tuition: $132.  Regi
 ster online at www.ogden4arts.org or by calling a member of the art center
  staff at 801-392-6935.
X-WR-RELCALID:e164f7feb083b293f16161a0c559629d
X-WR-TIMEZONE:America/Denver
BEGIN:VTIMEZONE
TZID:America/Denver
BEGIN:STANDARD
TZNAME:MST
DTSTART:20221106T020000
TZOFFSETFROM:-0600
TZOFFSETTO:-0700
RDATE:20231105T020000
RDATE:20241103T020000
END:STANDARD
BEGIN:DAYLIGHT
TZNAME:MDT
DTSTART:20230312T020000
TZOFFSETFROM:-0700
TZOFFSETTO:-0600
RDATE:20240310T020000
RDATE:20250309T020000
END:DAYLIGHT
END:VTIMEZONE
BEGIN:VEVENT
UID:e33ece4c-de0e-4767-b6c3-6f17e9f44334
DTSTAMP:20260421T060626Z
DESCRIPTION:Artist\, Terrece Beesley will offer an Intermediate Watercolor 
 Studio Workshop at the Eccles Art Center\, 2580 Jefferson Avenue\, Ogden o
 n Monday evenings from 6:30 to 8:30 p.m. September 11\, through October 30
 \, 2023 (class will not be held October 2nd). Class size is limited.  A su
 pply list will be provided to registering students.  Tuition: $132.  Regis
 ter online at www.ogden4arts.org or by calling a member of the art center 
 staff at 801-392-6935.
DTSTART;TZID=America/Denver:20230911T183000
DTEND;TZID=America/Denver:20230911T203000
LOCATION:2580 Jefferson Ave\, Ogden\, UT 84401 US
SUMMARY:Intermediate Watercolor Studio
END:VEVENT
END:VCALENDAR
