BEGIN:VCALENDAR
VERSION:2.0
PRODID:-//ogden4arts.org//NONSGML kigkonsult.se iCalcreator 2.30.10//
CALSCALE:GREGORIAN
METHOD:PUBLISH
UID:6c5ed94f-10d0-48f1-bf11-cc3145946ec0
X-WR-CALDESC:A daytime Seniors Create! class for those 55 + will be offered
  at the Eccles Art Center\, 2580 Jefferson Avenue\, Ogden on Friday\, Sept
 ember 8\, 2023 from 11 to noon.  Students will use Fall leaves for inspira
 tion to create a watercolor lapel brooch or tie pin.  Tuition: $10.  Pre-r
 egistration is requested and may be done on-line at www.ogden4arts.org or 
 by calling the art center staff at 801-392-6935.
X-WR-RELCALID:6adca5e01719a37395337bc250f47aae
X-WR-TIMEZONE:America/Denver
BEGIN:VTIMEZONE
TZID:America/Denver
BEGIN:STANDARD
TZNAME:MST
DTSTART:20221106T020000
TZOFFSETFROM:-0600
TZOFFSETTO:-0700
RDATE:20231105T020000
RDATE:20241103T020000
END:STANDARD
BEGIN:DAYLIGHT
TZNAME:MDT
DTSTART:20230312T020000
TZOFFSETFROM:-0700
TZOFFSETTO:-0600
RDATE:20240310T020000
RDATE:20250309T020000
END:DAYLIGHT
END:VTIMEZONE
BEGIN:VEVENT
UID:08472e18-3603-4e67-9ded-a7956c3eb27c
DTSTAMP:20260421T060632Z
DESCRIPTION:A daytime Seniors Create! class for those 55 + will be offered 
 at the Eccles Art Center\, 2580 Jefferson Avenue\, Ogden on Friday\, Septe
 mber 8\, 2023 from 11 to noon.  Students will use Fall leaves for inspirat
 ion to create a watercolor lapel brooch or tie pin.  Tuition: $10.  Pre-re
 gistration is requested and may be done on-line at www.ogden4arts.org or b
 y calling the art center staff at 801-392-6935.
DTSTART;TZID=America/Denver:20230908T110000
DTEND;TZID=America/Denver:20230908T120000
LOCATION:2580 Jefferson Ave\, Ogden\, UT 84401 US
SUMMARY:Seniors Create: Fall Leaves
END:VEVENT
END:VCALENDAR
