BEGIN:VCALENDAR
VERSION:2.0
PRODID:-//ogden4arts.org//NONSGML kigkonsult.se iCalcreator 2.30.10//
CALSCALE:GREGORIAN
METHOD:PUBLISH
UID:1fca1c4b-2fd0-4b50-b5db-008e5a0fd89b
X-WR-CALDESC:Sat Mandir Kalsa will offer a one evening Kundalini/Mindfulnes
 s workshop at the Eccles Art Center\, 2580 Jefferson Avenue\, Ogden on Wed
 nesday\, September 6\, 2023 from 6:00 to 8:30 p.m.  Tuition: $20.  Registe
 r on-line at www.ogden4arts.org or by calling a member of the art center s
 taff at 801-392-6935.
X-WR-RELCALID:859069e54a64c39eae7c1ad308eac280
X-WR-TIMEZONE:America/Denver
BEGIN:VTIMEZONE
TZID:America/Denver
BEGIN:STANDARD
TZNAME:MST
DTSTART:20221106T020000
TZOFFSETFROM:-0600
TZOFFSETTO:-0700
RDATE:20231105T020000
RDATE:20241103T020000
END:STANDARD
BEGIN:DAYLIGHT
TZNAME:MDT
DTSTART:20230312T020000
TZOFFSETFROM:-0700
TZOFFSETTO:-0600
RDATE:20240310T020000
END:DAYLIGHT
END:VTIMEZONE
BEGIN:VEVENT
UID:9e9ad658-1dec-4896-87ea-4d7893a83204
DTSTAMP:20260421T060724Z
DESCRIPTION:Sat Mandir Kalsa will offer a one evening Kundalini/Mindfulness
  workshop at the Eccles Art Center\, 2580 Jefferson Avenue\, Ogden on Wedn
 esday\, September 6\, 2023 from 6:00 to 8:30 p.m.  Tuition: $20.  Register
  on-line at www.ogden4arts.org or by calling a member of the art center st
 aff at 801-392-6935.
DTSTART;TZID=America/Denver:20230906T180000
DTEND;TZID=America/Denver:20230906T203000
LOCATION:2580 Jefferson Ave\, Ogden\, UT 84401 US
SUMMARY:Kundalini/Mindfulness
END:VEVENT
END:VCALENDAR
