BEGIN:VCALENDAR
VERSION:2.0
PRODID:-//ogden4arts.org//NONSGML kigkonsult.se iCalcreator 2.30.10//
CALSCALE:GREGORIAN
METHOD:PUBLISH
UID:b8589da0-d700-4c93-9479-0884ecc63637
X-WR-CALDESC:The Art in Bloom display continues at the Eccles Art Center\, 
 2580 Jefferson Avenue\, Ogden.  Join us during business hours 9 a.m. to 5 
 p.m. to view the floral displays and vote for your favorite.  More informa
 tion: www.ogden4arts.org\n\n
X-WR-RELCALID:ec7f460698f1a605a7668c17c26a9f75
X-WR-TIMEZONE:America/Denver
BEGIN:VTIMEZONE
TZID:America/Denver
BEGIN:STANDARD
TZNAME:MST
DTSTART:20221106T020000
TZOFFSETFROM:-0600
TZOFFSETTO:-0700
RDATE:20231105T020000
RDATE:20241103T020000
END:STANDARD
BEGIN:DAYLIGHT
TZNAME:MDT
DTSTART:20230312T020000
TZOFFSETFROM:-0700
TZOFFSETTO:-0600
RDATE:20240310T020000
END:DAYLIGHT
END:VTIMEZONE
BEGIN:VEVENT
UID:b195e3ae-13e3-48e0-a4b4-c7dae1fa94bf
DTSTAMP:20260421T074621Z
DESCRIPTION:The Art in Bloom display continues at the Eccles Art Center\, 2
 580 Jefferson Avenue\, Ogden.  Join us during business hours 9 a.m. to 5 p
 .m. to view the floral displays and vote for your favorite.  More informat
 ion: www.ogden4arts.org\n\n
DTSTART;TZID=America/Denver:20230825T090000
DTEND;TZID=America/Denver:20230825T170000
LOCATION:2580 Jefferson Ave\, Ogden\, UT 84401 US
SUMMARY:Art in Bloom Exhibit
END:VEVENT
END:VCALENDAR
