BEGIN:VCALENDAR
VERSION:2.0
PRODID:-//ogden4arts.org//NONSGML kigkonsult.se iCalcreator 2.30.10//
CALSCALE:GREGORIAN
METHOD:PUBLISH
UID:6c90ec5c-c355-4179-a654-64ac7a77a03c
X-WR-CALDESC:The Eccles Art Center\, 2580 Jefferson Avenue\, Ogden will rec
 eive themed art for the Fall into Florals Competition August 21\, through 
 25\, 2023 from 9:30 a.m.to 4:30 p.m. Resident Utah artists may enter works
  which include flowers. Entry fee: $10/entry.  Artists are limited to two 
 entries.  More information may be reviewed on the center’s website: www.og
 den4arts.org\n\n
X-WR-RELCALID:1e9cd0358b2b35e4c4ac431a9fba9c81
X-WR-TIMEZONE:America/Denver
BEGIN:VTIMEZONE
TZID:America/Denver
BEGIN:STANDARD
TZNAME:MST
DTSTART:20221106T020000
TZOFFSETFROM:-0600
TZOFFSETTO:-0700
RDATE:20231105T020000
RDATE:20241103T020000
END:STANDARD
BEGIN:DAYLIGHT
TZNAME:MDT
DTSTART:20230312T020000
TZOFFSETFROM:-0700
TZOFFSETTO:-0600
RDATE:20240310T020000
END:DAYLIGHT
END:VTIMEZONE
BEGIN:VEVENT
UID:e661775a-58dc-464c-a862-ac56f81ce168
DTSTAMP:20260421T074653Z
DESCRIPTION:The Eccles Art Center\, 2580 Jefferson Avenue\, Ogden will rece
 ive themed art for the Fall into Florals Competition August 21\, through 2
 5\, 2023 from 9:30 a.m.to 4:30 p.m. Resident Utah artists may enter works 
 which include flowers. Entry fee: $10/entry.  Artists are limited to two e
 ntries.  More information may be reviewed on the center’s website: www.ogd
 en4arts.org\n\n
DTSTART;TZID=America/Denver:20230825T093000
DTEND;TZID=America/Denver:20230825T163000
LOCATION:2580 Jefferson Ave\, Ogden\, UT 84401 US
SUMMARY:Receive Art: Fall into Florals Competition
END:VEVENT
END:VCALENDAR
