BEGIN:VCALENDAR
VERSION:2.0
PRODID:-//ogden4arts.org//NONSGML kigkonsult.se iCalcreator 2.30.10//
CALSCALE:GREGORIAN
METHOD:PUBLISH
UID:fa5ca3ac-cace-4286-ab90-284b188e22e4
X-WR-CALDESC:A reception for the Art in Bloom Competition will be held at t
 he Eccles Art Center\, 2580 Jefferson Avenue\, Ogden from 5 to 7 p.m. A do
 nation of $10 is requested at the door.  Join us to view the floral design
 s interpretations of works of art from the Statewide exhibit or to purchas
 e an artful floral designs to take home. Awards announced.
X-WR-RELCALID:e3bc2d8fd89b7550eb74dc82054eb50c
X-WR-TIMEZONE:America/Denver
BEGIN:VTIMEZONE
TZID:America/Denver
BEGIN:STANDARD
TZNAME:MST
DTSTART:20221106T020000
TZOFFSETFROM:-0600
TZOFFSETTO:-0700
RDATE:20231105T020000
RDATE:20241103T020000
END:STANDARD
BEGIN:DAYLIGHT
TZNAME:MDT
DTSTART:20230312T020000
TZOFFSETFROM:-0700
TZOFFSETTO:-0600
RDATE:20240310T020000
END:DAYLIGHT
END:VTIMEZONE
BEGIN:VEVENT
UID:bb4ff741-6e5b-4d0d-a921-bf32b88c6bc0
DTSTAMP:20260421T074246Z
DESCRIPTION:A reception for the Art in Bloom Competition will be held at th
 e Eccles Art Center\, 2580 Jefferson Avenue\, Ogden from 5 to 7 p.m. A don
 ation of $10 is requested at the door.  Join us to view the floral designs
  interpretations of works of art from the Statewide exhibit or to purchase
  an artful floral designs to take home. Awards announced.
DTSTART;TZID=America/Denver:20230824T170000
DTEND;TZID=America/Denver:20230824T190000
LOCATION:2580 Jefferson Ave\, Ogden\, UT 84401 US
SUMMARY:Reception: Art in Bloom
END:VEVENT
END:VCALENDAR
