BEGIN:VCALENDAR
VERSION:2.0
PRODID:-//ogden4arts.org//NONSGML kigkonsult.se iCalcreator 2.30.10//
CALSCALE:GREGORIAN
METHOD:PUBLISH
UID:31ec3b4e-2f24-42b7-956f-e69db8e776ca
X-WR-CALDESC:The Eccles Art Center\, 2580 Jefferson Avenue\, Ogden will rec
 eive themed art for the Fall into Florals Competition August 21\, through 
 25\, 2023 from 9:30 a.m.to 4:30 p.m. Resident Utah artists may enter works
  which include flowers. Entry fee: $10/entry.  Artists are limited to two 
 entries.  More information may be reviewed on the center’s website: www.og
 den4arts.org\n\n
X-WR-RELCALID:06fbcf45a95adffadc69f3d57dc506e9
X-WR-TIMEZONE:America/Denver
BEGIN:VTIMEZONE
TZID:America/Denver
BEGIN:STANDARD
TZNAME:MST
DTSTART:20221106T020000
TZOFFSETFROM:-0600
TZOFFSETTO:-0700
RDATE:20231105T020000
RDATE:20241103T020000
END:STANDARD
BEGIN:DAYLIGHT
TZNAME:MDT
DTSTART:20230312T020000
TZOFFSETFROM:-0700
TZOFFSETTO:-0600
RDATE:20240310T020000
END:DAYLIGHT
END:VTIMEZONE
BEGIN:VEVENT
UID:0955d0da-f58d-41db-bd00-c91a9d60820f
DTSTAMP:20260421T074720Z
DESCRIPTION:The Eccles Art Center\, 2580 Jefferson Avenue\, Ogden will rece
 ive themed art for the Fall into Florals Competition August 21\, through 2
 5\, 2023 from 9:30 a.m.to 4:30 p.m. Resident Utah artists may enter works 
 which include flowers. Entry fee: $10/entry.  Artists are limited to two e
 ntries.  More information may be reviewed on the center’s website: www.ogd
 en4arts.org\n\n
DTSTART;TZID=America/Denver:20230823T093000
DTEND;TZID=America/Denver:20230823T163000
LOCATION:2580 Jefferson Ave\, Ogden\, UT 84401 US
SUMMARY:Receive Art: Fall into Florals Competition
END:VEVENT
END:VCALENDAR
