BEGIN:VCALENDAR
VERSION:2.0
PRODID:-//ogden4arts.org//NONSGML kigkonsult.se iCalcreator 2.30.10//
CALSCALE:GREGORIAN
METHOD:PUBLISH
UID:49620940-e6ee-49f7-9780-0097f92101b4
X-WR-CALDESC:The annual Summer Art Fair is back! Come view artwork by local
  artists\, listen to live music\, tour the historic buildings\, and shop w
 hile you wander the beautiful grounds of the historic Eccles Art Center!\n
 Shop for fine arts\, pottery\, jewelry\, carpentry\, prints\, books\, clot
 hing\, glassworks\, ceramics\, textiles\, and so much more!\nHeld every Sa
 turday in August\, 10:00 am - 2:00 pm. Parking is free.\nFree children's a
 rt projects will be available each Saturday for your little ones!
X-WR-RELCALID:a30eabfca5e2af7d65e4ef7829c92201
X-WR-TIMEZONE:America/Denver
BEGIN:VTIMEZONE
TZID:America/Denver
BEGIN:STANDARD
TZNAME:MST
DTSTART:20221106T020000
TZOFFSETFROM:-0600
TZOFFSETTO:-0700
RDATE:20231105T020000
RDATE:20241103T020000
END:STANDARD
BEGIN:DAYLIGHT
TZNAME:MDT
DTSTART:20230312T020000
TZOFFSETFROM:-0700
TZOFFSETTO:-0600
RDATE:20240310T020000
END:DAYLIGHT
END:VTIMEZONE
BEGIN:VEVENT
UID:1f718bc0-e50f-4850-9bff-c84dee9840bc
DTSTAMP:20260421T074443Z
DESCRIPTION:The annual Summer Art Fair is back! Come view artwork by local 
 artists\, listen to live music\, tour the historic buildings\, and shop wh
 ile you wander the beautiful grounds of the historic Eccles Art Center!\nS
 hop for fine arts\, pottery\, jewelry\, carpentry\, prints\, books\, cloth
 ing\, glassworks\, ceramics\, textiles\, and so much more!\nHeld every Sat
 urday in August\, 10:00 am - 2:00 pm. Parking is free.\nFree children's ar
 t projects will be available each Saturday for your little ones!
DTSTART;TZID=America/Denver:20230812T100000
DTEND;TZID=America/Denver:20230812T140000
LOCATION:2580 Jefferson Ave\, Ogden\, UT 84401 US
SUMMARY:Summer Art Fair
END:VEVENT
END:VCALENDAR
