BEGIN:VCALENDAR
VERSION:2.0
PRODID:-//ogden4arts.org//NONSGML kigkonsult.se iCalcreator 2.30.10//
CALSCALE:GREGORIAN
METHOD:PUBLISH
UID:ebd3318c-0867-4d03-b6b3-cb9a00963928
X-WR-CALDESC:Students ages 7 through adult will create bug themed art with 
 artist\, Pamela Murphy at the Eccles Art Center\, 2580 Jefferson Avenue\, 
 Ogden on August 9\, 2023 from 10 a.m. to noon.  Projects include bug fossi
 l print\, bug box\, bugs in a jar and clay bugs.  Tuition: $40 includes su
 pplies.  Register at www.ogden4arts.org or by calling a member of the art 
 center staff at 801-392-6935.
X-WR-RELCALID:8066e7bc8c977e4766f3379d27ba7a25
X-WR-TIMEZONE:America/Denver
BEGIN:VTIMEZONE
TZID:America/Denver
BEGIN:STANDARD
TZNAME:MST
DTSTART:20221106T020000
TZOFFSETFROM:-0600
TZOFFSETTO:-0700
RDATE:20231105T020000
RDATE:20241103T020000
END:STANDARD
BEGIN:DAYLIGHT
TZNAME:MDT
DTSTART:20230312T020000
TZOFFSETFROM:-0700
TZOFFSETTO:-0600
RDATE:20240310T020000
END:DAYLIGHT
END:VTIMEZONE
BEGIN:VEVENT
UID:febd0533-2cca-49da-9d1c-22edf64ec280
DTSTAMP:20260421T074536Z
DESCRIPTION:Students ages 7 through adult will create bug themed art with a
 rtist\, Pamela Murphy at the Eccles Art Center\, 2580 Jefferson Avenue\, O
 gden on August 9\, 2023 from 10 a.m. to noon.  Projects include bug fossil
  print\, bug box\, bugs in a jar and clay bugs.  Tuition: $40 includes sup
 plies.  Register at www.ogden4arts.org or by calling a member of the art c
 enter staff at 801-392-6935.
DTSTART;TZID=America/Denver:20230809T100000
DTEND;TZID=America/Denver:20230809T120000
LOCATION:2580 Jefferson Ave\, Ogden\, UT 84401 US
SUMMARY:Bug Themed Art with Pamela Murphy
END:VEVENT
END:VCALENDAR
