BEGIN:VCALENDAR
VERSION:2.0
PRODID:-//ogden4arts.org//NONSGML kigkonsult.se iCalcreator 2.30.10//
CALSCALE:GREGORIAN
METHOD:PUBLISH
UID:86e03554-3ba6-4506-8ef4-900b1132d4da
X-WR-CALDESC:Students ages 9 through adult will paint a 9’’x12” masterpiece
  using acrylic paints with artist Pamela Murphy at the Eccles Art Center\,
  2580 Jefferson Avenue\, Ogden on Wednesday\, August 2\, 2023 from 10 a.m.
  to noon.  Supplies provided.  Tuition: $40.  Register online at www.ogden
 4arts.org or by calling a member of the art center’s staff at 801-392-6935
 .\n\n
X-WR-RELCALID:eee1e415dfd81e9007a703c97e5d447f
X-WR-TIMEZONE:America/Denver
BEGIN:VTIMEZONE
TZID:America/Denver
BEGIN:STANDARD
TZNAME:MST
DTSTART:20221106T020000
TZOFFSETFROM:-0600
TZOFFSETTO:-0700
RDATE:20231105T020000
RDATE:20241103T020000
END:STANDARD
BEGIN:DAYLIGHT
TZNAME:MDT
DTSTART:20230312T020000
TZOFFSETFROM:-0700
TZOFFSETTO:-0600
RDATE:20240310T020000
END:DAYLIGHT
END:VTIMEZONE
BEGIN:VEVENT
UID:11acaf5f-66a9-45dd-bd87-73e7e0f03286
DTSTAMP:20260421T074848Z
DESCRIPTION:Students ages 9 through adult will paint a 9’’x12” masterpiece 
 using acrylic paints with artist Pamela Murphy at the Eccles Art Center\, 
 2580 Jefferson Avenue\, Ogden on Wednesday\, August 2\, 2023 from 10 a.m. 
 to noon.  Supplies provided.  Tuition: $40.  Register online at www.ogden4
 arts.org or by calling a member of the art center’s staff at 801-392-6935.
 \n\n
DTSTART;TZID=America/Denver:20230802T100000
DTEND;TZID=America/Denver:20230802T120000
LOCATION:2580 Jefferson Avenue\, Ogden\, UT 84401 US
SUMMARY:Acrylic Painting with Pamela Murphy
END:VEVENT
END:VCALENDAR
