BEGIN:VCALENDAR
VERSION:2.0
PRODID:-//ogden4arts.org//NONSGML kigkonsult.se iCalcreator 2.30.10//
CALSCALE:GREGORIAN
METHOD:PUBLISH
UID:8a835208-f2cb-4f1c-ae65-5a82b7d9eefd
X-WR-CALDESC:Faces\, Faces\, Faces learn how to draw fun faces\, serious fa
 ces\, abstract faces with artist\, Pamela Murphy at the Eccles Art Center\
 , 2580 Jefferson Avenue\, Ogden on Tuesday\, August 1st from 10 a.m. to no
 on.  Recommended for those ages 8 through adult. Supplies provided. Tuitio
 n: $40.  Register online at www.ogden4arts.org or by calling a member of t
 he art center staff at 801-392-6935.
X-WR-RELCALID:4f8f26e3799c3bed6dbac9806fa14dde
X-WR-TIMEZONE:America/Denver
BEGIN:VTIMEZONE
TZID:America/Denver
BEGIN:STANDARD
TZNAME:MST
DTSTART:20221106T020000
TZOFFSETFROM:-0600
TZOFFSETTO:-0700
RDATE:20231105T020000
RDATE:20241103T020000
END:STANDARD
BEGIN:DAYLIGHT
TZNAME:MDT
DTSTART:20230312T020000
TZOFFSETFROM:-0700
TZOFFSETTO:-0600
RDATE:20240310T020000
END:DAYLIGHT
END:VTIMEZONE
BEGIN:VEVENT
UID:37cc0ae1-b0ec-4a7a-8ee3-d4268a49499c
DTSTAMP:20260421T074317Z
DESCRIPTION:Faces\, Faces\, Faces learn how to draw fun faces\, serious fac
 es\, abstract faces with artist\, Pamela Murphy at the Eccles Art Center\,
  2580 Jefferson Avenue\, Ogden on Tuesday\, August 1st from 10 a.m. to noo
 n.  Recommended for those ages 8 through adult. Supplies provided. Tuition
 : $40.  Register online at www.ogden4arts.org or by calling a member of th
 e art center staff at 801-392-6935.
DTSTART;TZID=America/Denver:20230801T100000
DTEND;TZID=America/Denver:20230801T120000
LOCATION:Eccles Art Center\, 2580 Jefferson Avenue\, Ogden\, UT 84401 US
SUMMARY:Draw Faces with Pamela Murphy
END:VEVENT
END:VCALENDAR
