BEGIN:VCALENDAR
VERSION:2.0
PRODID:-//ogden4arts.org//NONSGML kigkonsult.se iCalcreator 2.30.10//
CALSCALE:GREGORIAN
METHOD:PUBLISH
UID:c99362ec-61ad-45e1-9dc1-979df76e018d
X-WR-CALDESC:Art Center Closed
X-WR-RELCALID:1b32e2a16d0f1fa29fe16b45cfd01e64
X-WR-TIMEZONE:America/Denver
BEGIN:VTIMEZONE
TZID:America/Denver
BEGIN:STANDARD
TZNAME:MST
DTSTART:20221106T020000
TZOFFSETFROM:-0600
TZOFFSETTO:-0700
RDATE:20231105T020000
RDATE:20241103T020000
END:STANDARD
BEGIN:DAYLIGHT
TZNAME:MDT
DTSTART:20230312T020000
TZOFFSETFROM:-0700
TZOFFSETTO:-0600
RDATE:20240310T020000
END:DAYLIGHT
END:VTIMEZONE
BEGIN:VEVENT
UID:2aa2fa5b-1dcb-4b13-bc9c-cdf3e1af683d
DTSTAMP:20260421T091226Z
DESCRIPTION:Art Center Closed
DTSTART;TZID=America/Denver:20230724T000000
DTEND;TZID=America/Denver:20230724T235900
LOCATION:2580 Jefferson Avenue\, Ogden\, UT 84401 US
SUMMARY:Eccles Art Center Closed
END:VEVENT
END:VCALENDAR
