BEGIN:VCALENDAR
VERSION:2.0
PRODID:-//ogden4arts.org//NONSGML kigkonsult.se iCalcreator 2.30.10//
CALSCALE:GREGORIAN
METHOD:PUBLISH
UID:ed9b0a0c-2faf-4495-8d97-a22f5af9ff80
X-WR-CALDESC:Artist/Instructor\, Pamela Murphy will assist students ages 7 
 through adult to design a Fairy House at the Eccles Art Center\, 2580 Jeff
 erson Avenue\, Ogden on Tuesday\, July 18\, 2023 from 10 to noon.  Tuition
 : $40 includes supplies.  Pre-registration is requested and may be accompl
 ished by registering online at www.ogden4arts.org or by calling a member o
 f the center staff at 801-392-6935.
X-WR-RELCALID:9022fc934f3669f392b80131a920d953
X-WR-TIMEZONE:America/Denver
BEGIN:VTIMEZONE
TZID:America/Denver
BEGIN:STANDARD
TZNAME:MST
DTSTART:20221106T020000
TZOFFSETFROM:-0600
TZOFFSETTO:-0700
RDATE:20231105T020000
RDATE:20241103T020000
END:STANDARD
BEGIN:DAYLIGHT
TZNAME:MDT
DTSTART:20230312T020000
TZOFFSETFROM:-0700
TZOFFSETTO:-0600
RDATE:20240310T020000
END:DAYLIGHT
END:VTIMEZONE
BEGIN:VEVENT
UID:d6bb3d3d-478d-41b9-9e89-52eb94207285
DTSTAMP:20260421T091053Z
DESCRIPTION:Artist/Instructor\, Pamela Murphy will assist students ages 7 t
 hrough adult to design a Fairy House at the Eccles Art Center\, 2580 Jeffe
 rson Avenue\, Ogden on Tuesday\, July 18\, 2023 from 10 to noon.  Tuition:
  $40 includes supplies.  Pre-registration is requested and may be accompli
 shed by registering online at www.ogden4arts.org or by calling a member of
  the center staff at 801-392-6935.
DTSTART;TZID=America/Denver:20230718T100000
DTEND;TZID=America/Denver:20230718T120000
LOCATION:2580 Jefferson Ave\, Ogden\, UT 84401 US
SUMMARY:Design a Fairy House with Pamela Murphy
END:VEVENT
END:VCALENDAR
