BEGIN:VCALENDAR
VERSION:2.0
PRODID:-//ogden4arts.org//NONSGML kigkonsult.se iCalcreator 2.30.10//
CALSCALE:GREGORIAN
METHOD:PUBLISH
UID:191489ec-20a9-47d4-ae86-3971e1b9606d
X-WR-CALDESC:Artist\, Pamela Murphy will explore charcoal drawing with stud
 ents ages 9 through adult at the Eccles Art Center\, Wednesday\, July 12 f
 rom 10 to noon.  Tuition: $40 includes supplies.  Pre-registration is sugg
 ested and be completed online at www.ogden4arts.org  or by calling a membe
 r of the center’s staff at: 801-392-6935.
X-WR-RELCALID:392066416d65c6afa4ead9d4a7879b47
X-WR-TIMEZONE:America/Denver
BEGIN:VTIMEZONE
TZID:America/Denver
BEGIN:STANDARD
TZNAME:MST
DTSTART:20221106T020000
TZOFFSETFROM:-0600
TZOFFSETTO:-0700
RDATE:20231105T020000
RDATE:20241103T020000
END:STANDARD
BEGIN:DAYLIGHT
TZNAME:MDT
DTSTART:20230312T020000
TZOFFSETFROM:-0700
TZOFFSETTO:-0600
RDATE:20240310T020000
END:DAYLIGHT
END:VTIMEZONE
BEGIN:VEVENT
UID:0f05150f-51da-4ab5-aa65-db89eadf042f
DTSTAMP:20260421T090936Z
DESCRIPTION:Artist\, Pamela Murphy will explore charcoal drawing with stude
 nts ages 9 through adult at the Eccles Art Center\, Wednesday\, July 12 fr
 om 10 to noon.  Tuition: $40 includes supplies.  Pre-registration is sugge
 sted and be completed online at www.ogden4arts.org  or by calling a member
  of the center’s staff at: 801-392-6935.
DTSTART;TZID=America/Denver:20230712T100000
DTEND;TZID=America/Denver:20230712T120000
LOCATION:2580 Jefferson Ave\, Ogden\, UT 84401 US
SUMMARY:Charcoal Drawing with Pamela Murphy
END:VEVENT
END:VCALENDAR
