BEGIN:VCALENDAR
VERSION:2.0
PRODID:-//ogden4arts.org//NONSGML kigkonsult.se iCalcreator 2.30.10//
CALSCALE:GREGORIAN
METHOD:PUBLISH
UID:70da6681-d2d4-4034-a64b-91c617d5fe52
X-WR-CALDESC:Artist\, Pamela Murphy will offer Paint a Bird House workshop 
 at the Eccles Art Center\, 2580 \nJefferson Avenue\, Ogden on Tuesday\, Ju
 ly 11th from 10 a.m to noon.  This workshop is recommended for those ages 
 7 through adult.  Supplies provided.  Tuition $40.  Please register online
  at www.ogden4arts.org.\n
X-WR-RELCALID:f1bd0dc0a3b3a45948a327bdf1a35c95
X-WR-TIMEZONE:America/Denver
BEGIN:VTIMEZONE
TZID:America/Denver
BEGIN:STANDARD
TZNAME:MST
DTSTART:20221106T020000
TZOFFSETFROM:-0600
TZOFFSETTO:-0700
RDATE:20231105T020000
RDATE:20241103T020000
END:STANDARD
BEGIN:DAYLIGHT
TZNAME:MDT
DTSTART:20230312T020000
TZOFFSETFROM:-0700
TZOFFSETTO:-0600
RDATE:20240310T020000
END:DAYLIGHT
END:VTIMEZONE
BEGIN:VEVENT
UID:27334b21-b5fc-4406-bfad-8f90c4d25b01
DTSTAMP:20260421T091916Z
DESCRIPTION:Artist\, Pamela Murphy will offer Paint a Bird House workshop a
 t the Eccles Art Center\, 2580 \nJefferson Avenue\, Ogden on Tuesday\, Jul
 y 11th from 10 a.m to noon.  This workshop is recommended for those ages 7
  through adult.  Supplies provided.  Tuition $40.  Please register online 
 at www.ogden4arts.org.\n
DTSTART;TZID=America/Denver:20230711T100000
DTEND;TZID=America/Denver:20230711T120000
LOCATION:2580 Jefferson Ave\, Ogden\, UT 84401 US
SUMMARY:Paint a Bird House
END:VEVENT
END:VCALENDAR
